BEGIN:VCALENDAR
VERSION:2.0
PRODID:-// - ECPv6.15.20//NONSGML v1.0//EN
CALSCALE:GREGORIAN
METHOD:PUBLISH
X-ORIGINAL-URL:https://heavener.news
X-WR-CALDESC:Events for 
REFRESH-INTERVAL;VALUE=DURATION:PT1H
X-Robots-Tag:noindex
X-PUBLISHED-TTL:PT1H
BEGIN:VTIMEZONE
TZID:America/Chicago
BEGIN:DAYLIGHT
TZOFFSETFROM:-0600
TZOFFSETTO:-0500
TZNAME:CDT
DTSTART:20240310T080000
END:DAYLIGHT
BEGIN:STANDARD
TZOFFSETFROM:-0500
TZOFFSETTO:-0600
TZNAME:CST
DTSTART:20241103T070000
END:STANDARD
BEGIN:DAYLIGHT
TZOFFSETFROM:-0600
TZOFFSETTO:-0500
TZNAME:CDT
DTSTART:20250309T080000
END:DAYLIGHT
BEGIN:STANDARD
TZOFFSETFROM:-0500
TZOFFSETTO:-0600
TZNAME:CST
DTSTART:20251102T070000
END:STANDARD
BEGIN:DAYLIGHT
TZOFFSETFROM:-0600
TZOFFSETTO:-0500
TZNAME:CDT
DTSTART:20260308T080000
END:DAYLIGHT
BEGIN:STANDARD
TZOFFSETFROM:-0500
TZOFFSETTO:-0600
TZNAME:CST
DTSTART:20261101T070000
END:STANDARD
END:VTIMEZONE
BEGIN:VEVENT
DTSTART;TZID=America/Chicago:20250927T100000
DTEND;TZID=America/Chicago:20250927T140000
DTSTAMP:20260425T150604
CREATED:20250914T110912Z
LAST-MODIFIED:20250914T110916Z
UID:5051-1758967200-1758981600@heavener.news
SUMMARY:20 + acre live auction
DESCRIPTION:
URL:https://heavener.news/event/20-acre-live-auction/
LOCATION:Glendale Road\, 41735 County Road 179\, Howe\, Oklahoma\, 74940
CATEGORIES:Event
ATTACH;FMTTYPE=image/jpeg:https://heavener.news/wp-content/uploads/2025/09/5512617880167688938.jpg
END:VEVENT
BEGIN:VEVENT
DTSTART;TZID=America/Chicago:20250927T110000
DTEND;TZID=America/Chicago:20250927T120000
DTSTAMP:20260425T150604
CREATED:20250924T083044Z
LAST-MODIFIED:20250924T083048Z
UID:5369-1758970800-1758974400@heavener.news
SUMMARY:/Funeral service for Dalton Langdell
DESCRIPTION:
URL:https://heavener.news/event/funeral-service-for-dalton-langdell/
CATEGORIES:Obits
ATTACH;FMTTYPE=image/jpeg:https://heavener.news/wp-content/uploads/2025/09/Langdell-Dalton.jpg
END:VEVENT
BEGIN:VEVENT
DTSTART;TZID=America/Chicago:20250927T130000
DTEND;TZID=America/Chicago:20250927T140000
DTSTAMP:20260425T150604
CREATED:20250921T093341Z
LAST-MODIFIED:20250921T093345Z
UID:5289-1758978000-1758981600@heavener.news
SUMMARY:Memorial service for Gaila Bass
DESCRIPTION:
URL:https://heavener.news/event/memorial-service-for-gaila-bass/
LOCATION:Dowden-Roberts Funeral Home\, 710 U.S. 270\, Heavener\, Ok\, 74937
ATTACH;FMTTYPE=image/jpeg:https://heavener.news/wp-content/uploads/2025/09/Gaila-Bass.jpg
END:VEVENT
BEGIN:VEVENT
DTSTART;TZID=America/Chicago:20250927T140000
DTEND;TZID=America/Chicago:20250927T150000
DTSTAMP:20260425T150604
CREATED:20250923T111409Z
LAST-MODIFIED:20250923T111412Z
UID:5356-1758981600-1758985200@heavener.news
SUMMARY:Dr. Jimmy Gardner funeral service
DESCRIPTION:
URL:https://heavener.news/event/dr-jimmy-gardner-funeral-service/
LOCATION:Heavener First Baptist Church\, 200 West Avenue C\, Heavener\, Oklahoma\, 74937
CATEGORIES:Obits
ATTACH;FMTTYPE=image/jpeg:https://heavener.news/wp-content/uploads/2025/09/jim-gardner.jpg
END:VEVENT
END:VCALENDAR