BEGIN:VCALENDAR
VERSION:2.0
PRODID:-// - ECPv6.15.20//NONSGML v1.0//EN
CALSCALE:GREGORIAN
METHOD:PUBLISH
X-ORIGINAL-URL:https://heavener.news
X-WR-CALDESC:Events for 
REFRESH-INTERVAL;VALUE=DURATION:PT1H
X-Robots-Tag:noindex
X-PUBLISHED-TTL:PT1H
BEGIN:VTIMEZONE
TZID:America/Chicago
BEGIN:DAYLIGHT
TZOFFSETFROM:-0600
TZOFFSETTO:-0500
TZNAME:CDT
DTSTART:20240310T080000
END:DAYLIGHT
BEGIN:STANDARD
TZOFFSETFROM:-0500
TZOFFSETTO:-0600
TZNAME:CST
DTSTART:20241103T070000
END:STANDARD
BEGIN:DAYLIGHT
TZOFFSETFROM:-0600
TZOFFSETTO:-0500
TZNAME:CDT
DTSTART:20250309T080000
END:DAYLIGHT
BEGIN:STANDARD
TZOFFSETFROM:-0500
TZOFFSETTO:-0600
TZNAME:CST
DTSTART:20251102T070000
END:STANDARD
BEGIN:DAYLIGHT
TZOFFSETFROM:-0600
TZOFFSETTO:-0500
TZNAME:CDT
DTSTART:20260308T080000
END:DAYLIGHT
BEGIN:STANDARD
TZOFFSETFROM:-0500
TZOFFSETTO:-0600
TZNAME:CST
DTSTART:20261101T070000
END:STANDARD
END:VTIMEZONE
BEGIN:VEVENT
DTSTART;TZID=America/Chicago:20251010T100000
DTEND;TZID=America/Chicago:20251010T110000
DTSTAMP:20260424T012414
CREATED:20251008T110210Z
LAST-MODIFIED:20251008T110312Z
UID:5752-1760090400-1760094000@heavener.news
SUMMARY:Funeral service for Bobby Morrison
DESCRIPTION:
URL:https://heavener.news/event/funeral-service-for-bobby-morrison/
LOCATION:Dowden-Roberts Funeral Home\, 710 U.S. 270\, Heavener\, Ok\, 74937
CATEGORIES:Obits
ATTACH;FMTTYPE=image/jpeg:https://heavener.news/wp-content/uploads/2025/10/Bobby-Morrison-pic.jpg
END:VEVENT
BEGIN:VEVENT
DTSTART;TZID=America/Chicago:20251010T190000
DTEND;TZID=America/Chicago:20251010T220000
DTSTAMP:20260424T012414
CREATED:20250821T142642Z
LAST-MODIFIED:20250821T142645Z
UID:4373-1760122800-1760133600@heavener.news
SUMMARY:Roland at Heavener football
DESCRIPTION:
URL:https://heavener.news/event/roland-at-heavener-football/
LOCATION:Heavener High School\, East Avenue G and 5th Street\, Heavener\, OK\, 74937\, United States
ATTACH;FMTTYPE=image/jpeg:https://heavener.news/wp-content/uploads/2025/08/IMG_28541-scaled.jpg
END:VEVENT
END:VCALENDAR