BEGIN:VCALENDAR
VERSION:2.0
PRODID:-// - ECPv6.15.20//NONSGML v1.0//EN
CALSCALE:GREGORIAN
METHOD:PUBLISH
X-ORIGINAL-URL:https://heavener.news
X-WR-CALDESC:Events for 
REFRESH-INTERVAL;VALUE=DURATION:PT1H
X-Robots-Tag:noindex
X-PUBLISHED-TTL:PT1H
BEGIN:VTIMEZONE
TZID:America/Chicago
BEGIN:DAYLIGHT
TZOFFSETFROM:-0600
TZOFFSETTO:-0500
TZNAME:CDT
DTSTART:20240310T080000
END:DAYLIGHT
BEGIN:STANDARD
TZOFFSETFROM:-0500
TZOFFSETTO:-0600
TZNAME:CST
DTSTART:20241103T070000
END:STANDARD
BEGIN:DAYLIGHT
TZOFFSETFROM:-0600
TZOFFSETTO:-0500
TZNAME:CDT
DTSTART:20250309T080000
END:DAYLIGHT
BEGIN:STANDARD
TZOFFSETFROM:-0500
TZOFFSETTO:-0600
TZNAME:CST
DTSTART:20251102T070000
END:STANDARD
BEGIN:DAYLIGHT
TZOFFSETFROM:-0600
TZOFFSETTO:-0500
TZNAME:CDT
DTSTART:20260308T080000
END:DAYLIGHT
BEGIN:STANDARD
TZOFFSETFROM:-0500
TZOFFSETTO:-0600
TZNAME:CST
DTSTART:20261101T070000
END:STANDARD
END:VTIMEZONE
BEGIN:VEVENT
DTSTART;TZID=America/Chicago:20250729T180000
DTEND;TZID=America/Chicago:20250729T190000
DTSTAMP:20260425T133925
CREATED:20250723T125512Z
LAST-MODIFIED:20250723T125512Z
UID:3619-1753812000-1753815600@heavener.news
SUMMARY:Poteau Evening Lions Club meet
DESCRIPTION:
URL:https://heavener.news/event/poteau-evening-lions-club-meet/
LOCATION:Carl Albert State College\, 1507 South McKenna\, Poteau\, Oklahoma\, 74937
CATEGORIES:Event
ATTACH;FMTTYPE=image/png:https://heavener.news/wp-content/uploads/2025/07/lions-club-international-logo-png_seeklogo-179030.png
END:VEVENT
BEGIN:VEVENT
DTSTART;TZID=America/Chicago:20251118T180000
DTEND;TZID=America/Chicago:20251118T210000
DTSTAMP:20260425T133925
CREATED:20251116T123100Z
LAST-MODIFIED:20251116T123156Z
UID:6632-1763488800-1763499600@heavener.news
SUMMARY:High School basketball Smithville at Howe
DESCRIPTION:
URL:https://heavener.news/event/high-school-basketball-smithville-at-howe/
LOCATION:Howe High School\, 21444 E N Railroad St\,\, Howe\, Oklahoma\, 74940
END:VEVENT
BEGIN:VEVENT
DTSTART;TZID=America/Chicago:20251118T183000
DTEND;TZID=America/Chicago:20251118T220000
DTSTAMP:20260425T133925
CREATED:20251116T123904Z
LAST-MODIFIED:20251116T125052Z
UID:6640-1763490600-1763503200@heavener.news
SUMMARY:High school basketball Whitesboro at Cameron
DESCRIPTION:
URL:https://heavener.news/event/high-school-basketball-whitesboro-at-cameron/
LOCATION:Cameron High School\, 15920 Church Street\, Cameron\, Oklahoma\, 74932
END:VEVENT
BEGIN:VEVENT
DTSTART;TZID=America/Chicago:20251118T183000
DTEND;TZID=America/Chicago:20251118T220000
DTSTAMP:20260425T133925
CREATED:20251116T124727Z
LAST-MODIFIED:20251116T124730Z
UID:6644-1763490600-1763503200@heavener.news
SUMMARY:High school basketball LeFlore at Indianola
DESCRIPTION:
URL:https://heavener.news/event/high-school-basketball-leflore-at-indianola/
LOCATION:Indianola High School\, 898 Second Street\, Indianola\, Oklahoma\, 74442
ATTACH;FMTTYPE=image/jpeg:https://heavener.news/wp-content/uploads/2025/11/basketball-400906_1280.jpg
END:VEVENT
END:VCALENDAR