BEGIN:VCALENDAR
VERSION:2.0
PRODID:-// - ECPv6.15.20//NONSGML v1.0//EN
CALSCALE:GREGORIAN
METHOD:PUBLISH
X-ORIGINAL-URL:https://heavener.news
X-WR-CALDESC:Events for 
REFRESH-INTERVAL;VALUE=DURATION:PT1H
X-Robots-Tag:noindex
X-PUBLISHED-TTL:PT1H
BEGIN:VTIMEZONE
TZID:America/Chicago
BEGIN:DAYLIGHT
TZOFFSETFROM:-0600
TZOFFSETTO:-0500
TZNAME:CDT
DTSTART:20240310T080000
END:DAYLIGHT
BEGIN:STANDARD
TZOFFSETFROM:-0500
TZOFFSETTO:-0600
TZNAME:CST
DTSTART:20241103T070000
END:STANDARD
BEGIN:DAYLIGHT
TZOFFSETFROM:-0600
TZOFFSETTO:-0500
TZNAME:CDT
DTSTART:20250309T080000
END:DAYLIGHT
BEGIN:STANDARD
TZOFFSETFROM:-0500
TZOFFSETTO:-0600
TZNAME:CST
DTSTART:20251102T070000
END:STANDARD
BEGIN:DAYLIGHT
TZOFFSETFROM:-0600
TZOFFSETTO:-0500
TZNAME:CDT
DTSTART:20260308T080000
END:DAYLIGHT
BEGIN:STANDARD
TZOFFSETFROM:-0500
TZOFFSETTO:-0600
TZNAME:CST
DTSTART:20261101T070000
END:STANDARD
END:VTIMEZONE
BEGIN:VEVENT
DTSTART;TZID=America/Chicago:20250728T090000
DTEND;TZID=America/Chicago:20250728T100000
DTSTAMP:20260423T070921
CREATED:20250723T095002Z
LAST-MODIFIED:20250929T184925Z
UID:3565-1753693200-1753696800@heavener.news
SUMMARY:LeFlore County commissioners meet
DESCRIPTION:
URL:https://heavener.news/event/leflore-county-commissioners-meet-9/
LOCATION:LeFlore County courthouse\, 100 South Broadway\, Poteau\, Oklahoma
CATEGORIES:Event
ATTACH;FMTTYPE=image/jpeg:https://heavener.news/wp-content/uploads/2025/03/courthouse.jpg
END:VEVENT
BEGIN:VEVENT
DTSTART;TZID=America/Chicago:20251222T090000
DTEND;TZID=America/Chicago:20251222T100000
DTSTAMP:20260423T070921
CREATED:20251221T135143Z
LAST-MODIFIED:20251221T135147Z
UID:7522-1766394000-1766397600@heavener.news
SUMMARY:LeFlore County commissioners meet
DESCRIPTION:/
URL:https://heavener.news/event/leflore-county-commissioners-meet-10/
LOCATION:LeFlore County courthouse\, 100 South Broadway\, Poteau\, Oklahoma
ATTACH;FMTTYPE=image/jpeg:https://heavener.news/wp-content/uploads/2025/04/courthouse.jpg
END:VEVENT
BEGIN:VEVENT
DTSTART;TZID=America/Chicago:20251229T140000
DTEND;TZID=America/Chicago:20251229T150000
DTSTAMP:20260423T070921
CREATED:20251224T150705Z
LAST-MODIFIED:20251224T150757Z
UID:7611-1767016800-1767020400@heavener.news
SUMMARY:Paul Smallwood funeral service
DESCRIPTION:
URL:https://heavener.news/event/paul-smallwood-funeral-service/
LOCATION:OK
ATTACH;FMTTYPE=image/png:https://heavener.news/wp-content/uploads/2025/12/Smallwood-Paul.png
END:VEVENT
BEGIN:VEVENT
DTSTART;TZID=America/Chicago:20251229T150000
DTEND;TZID=America/Chicago:20251229T170000
DTSTAMP:20260423T070921
CREATED:20251227T110612Z
LAST-MODIFIED:20251227T110631Z
UID:7638-1767020400-1767027600@heavener.news
SUMMARY:Howe girls vs. Kingfisher
DESCRIPTION:/
URL:https://heavener.news/event/howe-girls-vs-kingfisher/
LOCATION:East Central University Kerr Activity Center\, East 14th Street\, Ada\, Oklahoma\, 74820
ATTACH;FMTTYPE=image/jpeg:https://heavener.news/wp-content/uploads/2025/12/Bertha-Teague-Bracket-2024.jpeg
END:VEVENT
BEGIN:VEVENT
DTSTART;TZID=America/Chicago:20251229T173000
DTEND;TZID=America/Chicago:20251229T190000
DTSTAMP:20260423T070921
CREATED:20251227T111047Z
LAST-MODIFIED:20251227T111050Z
UID:7642-1767029400-1767034800@heavener.news
SUMMARY:Pocola boys vs. Carl Albert
DESCRIPTION:
URL:https://heavener.news/event/pocola-boys-vs-carl-albert/
LOCATION:Mustang High School\, 801 S. Snyder Drive\, Mustang\, Oklahoma\, 73099
ATTACH;FMTTYPE=image/jpeg:https://heavener.news/wp-content/uploads/2025/12/Mustang-Classic.jpg
END:VEVENT
END:VCALENDAR