BEGIN:VCALENDAR
VERSION:2.0
PRODID:-// - ECPv6.15.20//NONSGML v1.0//EN
CALSCALE:GREGORIAN
METHOD:PUBLISH
X-ORIGINAL-URL:https://heavener.news
X-WR-CALDESC:Events for 
REFRESH-INTERVAL;VALUE=DURATION:PT1H
X-Robots-Tag:noindex
X-PUBLISHED-TTL:PT1H
BEGIN:VTIMEZONE
TZID:America/Chicago
BEGIN:DAYLIGHT
TZOFFSETFROM:-0600
TZOFFSETTO:-0500
TZNAME:CDT
DTSTART:20250309T080000
END:DAYLIGHT
BEGIN:STANDARD
TZOFFSETFROM:-0500
TZOFFSETTO:-0600
TZNAME:CST
DTSTART:20251102T070000
END:STANDARD
BEGIN:DAYLIGHT
TZOFFSETFROM:-0600
TZOFFSETTO:-0500
TZNAME:CDT
DTSTART:20260308T080000
END:DAYLIGHT
BEGIN:STANDARD
TZOFFSETFROM:-0500
TZOFFSETTO:-0600
TZNAME:CST
DTSTART:20261101T070000
END:STANDARD
BEGIN:DAYLIGHT
TZOFFSETFROM:-0600
TZOFFSETTO:-0500
TZNAME:CDT
DTSTART:20270314T080000
END:DAYLIGHT
BEGIN:STANDARD
TZOFFSETFROM:-0500
TZOFFSETTO:-0600
TZNAME:CST
DTSTART:20271107T070000
END:STANDARD
END:VTIMEZONE
BEGIN:VEVENT
DTSTART;TZID=America/Chicago:20260228T130000
DTEND;TZID=America/Chicago:20260228T143000
DTSTAMP:20260420T162857
CREATED:20260228T111544Z
LAST-MODIFIED:20260228T111546Z
UID:8872-1772283600-1772289000@heavener.news
SUMMARY:Heavener girls vs. Chandler
DESCRIPTION:Regional consolation championship
URL:https://heavener.news/event/heavener-girls-vs-chandler/
LOCATION:Beggs High School\, 1201 West 9th Street\, Beggs\, Oklahoma\, 74421
END:VEVENT
BEGIN:VEVENT
DTSTART;TZID=America/Chicago:20260228T140000
DTEND;TZID=America/Chicago:20260228T150000
DTSTAMP:20260420T162857
CREATED:20260225T162143Z
LAST-MODIFIED:20260225T162147Z
UID:8822-1772287200-1772290800@heavener.news
SUMMARY:Memorial service for Bobby Ray Phillips
DESCRIPTION:
URL:https://heavener.news/event/memorial-service-for-bobby-ray-phillips/
LOCATION:Stapp-Zoe Baptist Church\, Highway 59 South\, Hodgen\, Oklahoma\, 7939
CATEGORIES:Obits
ATTACH;FMTTYPE=image/jpeg:https://heavener.news/wp-content/uploads/2026/02/Bobby-Phillips-big.jpg
END:VEVENT
BEGIN:VEVENT
DTSTART;TZID=America/Chicago:20260228T143000
DTEND;TZID=America/Chicago:20260228T160000
DTSTAMP:20260420T162857
CREATED:20260228T111358Z
LAST-MODIFIED:20260228T111401Z
UID:8870-1772289000-1772294400@heavener.news
SUMMARY:Heavener boys vs. Eufaula at Beggs
DESCRIPTION:Heavener vs. Eufaula for regional consolation championship
URL:https://heavener.news/event/heavener-boys-vs-eufaula-at-beggs/
LOCATION:Beggs High School\, 1201 West 9th Street\, Beggs\, Oklahoma\, 74421
END:VEVENT
END:VCALENDAR