BEGIN:VCALENDAR
VERSION:2.0
PRODID:-// - ECPv6.15.20//NONSGML v1.0//EN
CALSCALE:GREGORIAN
METHOD:PUBLISH
X-ORIGINAL-URL:https://heavener.news
X-WR-CALDESC:Events for 
REFRESH-INTERVAL;VALUE=DURATION:PT1H
X-Robots-Tag:noindex
X-PUBLISHED-TTL:PT1H
BEGIN:VTIMEZONE
TZID:America/Chicago
BEGIN:DAYLIGHT
TZOFFSETFROM:-0600
TZOFFSETTO:-0500
TZNAME:CDT
DTSTART:20250309T080000
END:DAYLIGHT
BEGIN:STANDARD
TZOFFSETFROM:-0500
TZOFFSETTO:-0600
TZNAME:CST
DTSTART:20251102T070000
END:STANDARD
BEGIN:DAYLIGHT
TZOFFSETFROM:-0600
TZOFFSETTO:-0500
TZNAME:CDT
DTSTART:20260308T080000
END:DAYLIGHT
BEGIN:STANDARD
TZOFFSETFROM:-0500
TZOFFSETTO:-0600
TZNAME:CST
DTSTART:20261101T070000
END:STANDARD
BEGIN:DAYLIGHT
TZOFFSETFROM:-0600
TZOFFSETTO:-0500
TZNAME:CDT
DTSTART:20270314T080000
END:DAYLIGHT
BEGIN:STANDARD
TZOFFSETFROM:-0500
TZOFFSETTO:-0600
TZNAME:CST
DTSTART:20271107T070000
END:STANDARD
END:VTIMEZONE
BEGIN:VEVENT
DTSTART;TZID=America/Chicago:20260202T130000
DTEND;TZID=America/Chicago:20260202T140000
DTSTAMP:20260422T040910
CREATED:20260130T120017Z
LAST-MODIFIED:20260130T120116Z
UID:8251-1770037200-1770040800@heavener.news
SUMMARY:Norma Jean Easley funeral service
DESCRIPTION:
URL:https://heavener.news/event/norma-jean-easley-funeral-service/
LOCATION:Evans & Miller Funeral Home\, 411 Dewey Avenue\, Poteau\, Oklahoma\, 74953
CATEGORIES:Obits
ATTACH;FMTTYPE=image/jpeg:https://heavener.news/wp-content/uploads/2026/01/Easley.jpg
END:VEVENT
BEGIN:VEVENT
DTSTART;TZID=America/Chicago:20260212T140000
DTEND;TZID=America/Chicago:20260212T150000
DTSTAMP:20260422T040910
CREATED:20260210T124421Z
LAST-MODIFIED:20260210T124425Z
UID:8585-1770904800-1770908400@heavener.news
SUMMARY:Billie June Guinn funeral service
DESCRIPTION:
URL:https://heavener.news/event/billie-june-guinn-funeral-service/
LOCATION:Dowden-Roberts Funeral Home\, 710 U.S. 270\, Heavener\, Ok\, 74937
CATEGORIES:Obits
ATTACH;FMTTYPE=image/jpeg:https://heavener.news/wp-content/uploads/2026/02/Billie-Guinn-pic.jpg
END:VEVENT
BEGIN:VEVENT
DTSTART;TZID=America/Chicago:20260216T140000
DTEND;TZID=America/Chicago:20260216T150000
DTSTAMP:20260422T040910
CREATED:20260215T132254Z
LAST-MODIFIED:20260215T132257Z
UID:8687-1771250400-1771254000@heavener.news
SUMMARY:Harold Ray funeral service
DESCRIPTION:
URL:https://heavener.news/event/harold-ray-funeral-service/
LOCATION:Big Creek Baptist Church\, 51918 Haw Creek Rd\, Heavener\, Oklahoma\, 74937
CATEGORIES:Obits
ATTACH;FMTTYPE=image/jpeg:https://heavener.news/wp-content/uploads/2026/02/harold-ray.jpg
END:VEVENT
BEGIN:VEVENT
DTSTART;TZID=America/Chicago:20260228T140000
DTEND;TZID=America/Chicago:20260228T150000
DTSTAMP:20260422T040910
CREATED:20260225T162143Z
LAST-MODIFIED:20260225T162147Z
UID:8822-1772287200-1772290800@heavener.news
SUMMARY:Memorial service for Bobby Ray Phillips
DESCRIPTION:
URL:https://heavener.news/event/memorial-service-for-bobby-ray-phillips/
LOCATION:Stapp-Zoe Baptist Church\, Highway 59 South\, Hodgen\, Oklahoma\, 7939
CATEGORIES:Obits
ATTACH;FMTTYPE=image/jpeg:https://heavener.news/wp-content/uploads/2026/02/Bobby-Phillips-big.jpg
END:VEVENT
END:VCALENDAR