BEGIN:VCALENDAR
VERSION:2.0
PRODID:-// - ECPv6.15.20//NONSGML v1.0//EN
CALSCALE:GREGORIAN
METHOD:PUBLISH
X-ORIGINAL-URL:https://heavener.news
X-WR-CALDESC:Events for 
REFRESH-INTERVAL;VALUE=DURATION:PT1H
X-Robots-Tag:noindex
X-PUBLISHED-TTL:PT1H
BEGIN:VTIMEZONE
TZID:America/Chicago
BEGIN:DAYLIGHT
TZOFFSETFROM:-0600
TZOFFSETTO:-0500
TZNAME:CDT
DTSTART:20240310T080000
END:DAYLIGHT
BEGIN:STANDARD
TZOFFSETFROM:-0500
TZOFFSETTO:-0600
TZNAME:CST
DTSTART:20241103T070000
END:STANDARD
BEGIN:DAYLIGHT
TZOFFSETFROM:-0600
TZOFFSETTO:-0500
TZNAME:CDT
DTSTART:20250309T080000
END:DAYLIGHT
BEGIN:STANDARD
TZOFFSETFROM:-0500
TZOFFSETTO:-0600
TZNAME:CST
DTSTART:20251102T070000
END:STANDARD
BEGIN:DAYLIGHT
TZOFFSETFROM:-0600
TZOFFSETTO:-0500
TZNAME:CDT
DTSTART:20260308T080000
END:DAYLIGHT
BEGIN:STANDARD
TZOFFSETFROM:-0500
TZOFFSETTO:-0600
TZNAME:CST
DTSTART:20261101T070000
END:STANDARD
END:VTIMEZONE
BEGIN:VEVENT
DTSTART;TZID=America/Chicago:20250816T140000
DTEND;TZID=America/Chicago:20250816T150000
DTSTAMP:20260421T145213
CREATED:20250813T193542Z
LAST-MODIFIED:20250813T193542Z
UID:4047-1755352800-1755356400@heavener.news
SUMMARY:Memorial service for Sheila Garrett
DESCRIPTION:Obituary for Sheila Garrett: https://heavener.news/obituary-for-sheila-garrett/
URL:https://heavener.news/event/memorial-service-for-sheila-garrett/
LOCATION:Mallory-Martin Funeral Home\, 112 North Main Street\, Spiro\, Oklahoma\, 74959
CATEGORIES:Obits
ATTACH;FMTTYPE=image/jpeg:https://heavener.news/wp-content/uploads/2025/08/Garrett-Sheila.jpg
END:VEVENT
BEGIN:VEVENT
DTSTART;TZID=America/Chicago:20250811T110000
DTEND;TZID=America/Chicago:20250811T120000
DTSTAMP:20260421T145213
CREATED:20250809T120107Z
LAST-MODIFIED:20250809T120110Z
UID:3949-1754910000-1754913600@heavener.news
SUMMARY:Funeral service for Mary Odessa Lord Mathis
DESCRIPTION:
URL:https://heavener.news/event/funeral-service-for-mary-odessa-lord-mathis/
LOCATION:Mallory-Martin Funeral Home\, 112 North Main Street\, Spiro\, Oklahoma\, 74959
CATEGORIES:Obits
ATTACH;FMTTYPE=image/jpeg:https://heavener.news/wp-content/uploads/2025/08/Mathis-mary.jpg
END:VEVENT
BEGIN:VEVENT
DTSTART;TZID=America/Chicago:20250801T140000
DTEND;TZID=America/Chicago:20250801T150000
DTSTAMP:20260421T145213
CREATED:20250730T121834Z
LAST-MODIFIED:20250730T121834Z
UID:3754-1754056800-1754060400@heavener.news
SUMMARY:Funeral service for Mary Ford
DESCRIPTION:Obituary for Mary Ford of Heavener: https://heavener.news/obituary-for-mary-ford-of-heavener/F \n  \n 
URL:https://heavener.news/event/funeral-service-for-mary-ford/
LOCATION:Heavener First Baptist Church\, 200 West Avenue C\, Heavener\, Oklahoma\, 74937
CATEGORIES:Obits
ATTACH;FMTTYPE=image/jpeg:https://heavener.news/wp-content/uploads/2025/07/Mary-Ford.jpg
END:VEVENT
BEGIN:VEVENT
DTSTART;TZID=America/Chicago:20250731T140000
DTEND;TZID=America/Chicago:20250731T150000
DTSTAMP:20260421T145213
CREATED:20250729T101401Z
LAST-MODIFIED:20250729T101401Z
UID:3714-1753970400-1753974000@heavener.news
SUMMARY:Loretta Turner funeral service
DESCRIPTION:Loretta Turner funeral service: https://heavener.news/loretta-haney-turner-obituary/
URL:https://heavener.news/event/loretta-turner-funeral-service/
LOCATION:Springhill Baptist Church\, 18210 State Highway 83\, Howe\, Oklahoma\, 74940
CATEGORIES:Obits
ATTACH;FMTTYPE=image/jpeg:https://heavener.news/wp-content/uploads/2025/07/Turner.jpg
END:VEVENT
BEGIN:VEVENT
DTSTART;TZID=America/Chicago:20250728T140000
DTEND;TZID=America/Chicago:20250728T150000
DTSTAMP:20260421T145213
CREATED:20250727T120002Z
LAST-MODIFIED:20250727T120002Z
UID:3696-1753711200-1753714800@heavener.news
SUMMARY:Funeral service for John A. Sutter
DESCRIPTION:
URL:https://heavener.news/event/funeral-service-for-john-a-sutter/
LOCATION:Light and Hope Fellowship Church\, 101 West Avenue G\, Heavener\, Oklahoma\, 74937
CATEGORIES:Obits
ATTACH;FMTTYPE=image/jpeg:https://heavener.news/wp-content/uploads/2025/04/funeral-flowers-second.jpg
END:VEVENT
BEGIN:VEVENT
DTSTART;TZID=America/Chicago:20250728T100000
DTEND;TZID=America/Chicago:20250728T110000
DTSTAMP:20260421T145213
CREATED:20250728T113121Z
LAST-MODIFIED:20250728T113121Z
UID:3705-1753696800-1753700400@heavener.news
SUMMARY:Graveside services for Michael Leslie Doyle
DESCRIPTION:Services set for Michael Leslie Doyle: https://leflorecountyjournal.com/michael-leslie-doyle-services-set/
URL:https://heavener.news/event/graveside-services-for-michael-leslie-doyle/
LOCATION:New Talihina Cemetery\, Veterans Avenue\, Talihina\, Oklahoma\, 74571
CATEGORIES:Obits
ATTACH;FMTTYPE=image/jpeg:https://heavener.news/wp-content/uploads/2025/07/Michael-Doyle.jpg
END:VEVENT
BEGIN:VEVENT
DTSTART;TZID=America/Chicago:20250728T100000
DTEND;TZID=America/Chicago:20250728T110000
DTSTAMP:20260421T145213
CREATED:20250726T115433Z
LAST-MODIFIED:20250726T115433Z
UID:3689-1753696800-1753700400@heavener.news
SUMMARY:Funeral service for William Keith Jones
DESCRIPTION:Obituary for William Keith Jones: https://heavener.news/william-keith-jones-obituary/
URL:https://heavener.news/event/funeral-service-for-william-keith-jones/
LOCATION:Dowden-Roberts Funeral Home\, 710 U.S. 270\, Heavener\, Ok\, 74937
CATEGORIES:Obits
ATTACH;FMTTYPE=image/jpeg:https://heavener.news/wp-content/uploads/2025/07/William-Keith-Jones-1-1.jpg
END:VEVENT
BEGIN:VEVENT
DTSTART;TZID=America/Chicago:20250728T100000
DTEND;TZID=America/Chicago:20250728T110000
DTSTAMP:20260421T145213
CREATED:20250726T113401Z
LAST-MODIFIED:20250726T113401Z
UID:3682-1753696800-1753700400@heavener.news
SUMMARY:Peggy Jane Spradley funeral service
DESCRIPTION:Peggy Jane Spradley obituary: https://leflorecountyjournal.com/peggy-jane-spradley-obituary/
URL:https://heavener.news/event/peggy-jane-spradley-funeral-service/
LOCATION:Mallory-Martin Funeral Home\, 112 North Main Street\, Spiro\, Oklahoma\, 74959
CATEGORIES:Obits
ATTACH;FMTTYPE=image/jpeg:https://heavener.news/wp-content/uploads/2025/07/Spradley-Randy.jpg
END:VEVENT
BEGIN:VEVENT
DTSTART;TZID=America/Chicago:20250725T110000
DTEND;TZID=America/Chicago:20250725T120000
DTSTAMP:20260421T145213
CREATED:20250724T103728Z
LAST-MODIFIED:20250724T103728Z
UID:3641-1753441200-1753444800@heavener.news
SUMMARY:Daniel James Emerson Mammedaty funeral service
DESCRIPTION:
URL:https://heavener.news/event/daniel-james-emerson-mammedaty-funeral-service/
LOCATION:Evans & Miller Chapel in Pocola\, 301 S. Pocola Blvd\, Pocola\, Oklahoma\, 74902
CATEGORIES:Obits
ATTACH;FMTTYPE=image/jpeg:https://heavener.news/wp-content/uploads/2025/07/mammedaty.jpg
END:VEVENT
BEGIN:VEVENT
DTSTART;TZID=America/Chicago:20250719T133000
DTEND;TZID=America/Chicago:20250719T143000
DTSTAMP:20260421T145213
CREATED:20250718T122039Z
LAST-MODIFIED:20250718T122039Z
UID:3480-1752931800-1752935400@heavener.news
SUMMARY:Funeral service for Rodell Stanley
DESCRIPTION:FF
URL:https://heavener.news/event/funeral-service-for-rodell-stanley/
LOCATION:Lighthouse at the Crossroads Church\, 18170 Cherokee Drive\, Spiro\, Oklahoma\, 74959
CATEGORIES:Obits
ATTACH;FMTTYPE=image/jpeg:https://heavener.news/wp-content/uploads/2025/07/Stanley-Rodell.jpg
END:VEVENT
BEGIN:VEVENT
DTSTART;TZID=America/Chicago:20250712T100000
DTEND;TZID=America/Chicago:20250712T110000
DTSTAMP:20260421T145213
CREATED:20250710T112623Z
LAST-MODIFIED:20250710T115417Z
UID:3244-1752314400-1752318000@heavener.news
SUMMARY:Deborah Jane Ford funeral service
DESCRIPTION:Deborah Jane Ford obituary: https://heavener.news/deborah-jane-ford-obituary/
URL:https://heavener.news/event/deborah-jane-ford-funeral-service/
LOCATION:Oakland Cemetery\, 1401 S. McKenna Street\, Poteau\, Oklahoma\, 74953
CATEGORIES:Obits
END:VEVENT
BEGIN:VEVENT
DTSTART;TZID=America/Chicago:20250711T140000
DTEND;TZID=America/Chicago:20250711T150000
DTSTAMP:20260421T145213
CREATED:20250709T100227Z
LAST-MODIFIED:20250709T100227Z
UID:3217-1752242400-1752246000@heavener.news
SUMMARY:Funeral services for Buddy Ray Ridenour
DESCRIPTION:Funeral services for Buddy Ray Ridenour: https://wp.me/pgmbVO-PQ
URL:https://heavener.news/event/funeral-services-for-buddy-ray-ridenour/
LOCATION:Cavanaugh Freewill Baptist Church\, 2828 Briarcliff Avenue\, Fort Smith\, Arkansas\, 72908
CATEGORIES:Obits
ATTACH;FMTTYPE=image/jpeg:https://heavener.news/wp-content/uploads/2025/07/Ridenour-Buddy.jpg
END:VEVENT
BEGIN:VEVENT
DTSTART;TZID=America/Chicago:20250711T140000
DTEND;TZID=America/Chicago:20250711T150000
DTSTAMP:20260421T145213
CREATED:20250708T104905Z
LAST-MODIFIED:20250708T104928Z
UID:3195-1752242400-1752246000@heavener.news
SUMMARY:Celebration of life for Marilyn Pledger
DESCRIPTION:
URL:https://heavener.news/event/celebration-of-life-for-marilyn-pledger/
LOCATION:Heavener First Baptist Church\, 200 West Avenue C\, Heavener\, Oklahoma\, 74937
CATEGORIES:Obits
ATTACH;FMTTYPE=image/jpeg:https://heavener.news/wp-content/uploads/2025/07/Marilyn-Pledger-pic.jpg
END:VEVENT
BEGIN:VEVENT
DTSTART;TZID=America/Chicago:20250711T100000
DTEND;TZID=America/Chicago:20250711T110000
DTSTAMP:20260421T145213
CREATED:20250710T115201Z
LAST-MODIFIED:20250710T115201Z
UID:3253-1752228000-1752231600@heavener.news
SUMMARY:Celebration of life for Carolyn Elaine Anderson
DESCRIPTION:Carolyn Elaine Anderson obituary: https://heavener.news/carolyn-elaine-anderson-obituary/
URL:https://heavener.news/event/celebration-of-life-for-carolyn-elaine-anderson/
LOCATION:Evans & Miller Funeral Home\, 411 Dewey Avenue\, Poteau\, Oklahoma\, 74953
CATEGORIES:Obits
END:VEVENT
BEGIN:VEVENT
DTSTART;TZID=America/Chicago:20250627T100000
DTEND;TZID=America/Chicago:20250627T110000
DTSTAMP:20260421T145213
CREATED:20250625T120756Z
LAST-MODIFIED:20250625T120843Z
UID:3000-1751018400-1751022000@heavener.news
SUMMARY:Robin Kyle Callahan celebration of life service
DESCRIPTION:
URL:https://heavener.news/event/robin-kyle-callahan-celebration-of-life-service/
LOCATION:Howe United Fellowship Church\, Second and Choctaw Street\, Howe\, OK\, 74940\, United States
CATEGORIES:Obits
ATTACH;FMTTYPE=image/jpeg:https://heavener.news/wp-content/uploads/2025/06/kyle-1.jpg
END:VEVENT
BEGIN:VEVENT
DTSTART;TZID=America/Chicago:20250626T100000
DTEND;TZID=America/Chicago:20250626T110000
DTSTAMP:20260421T145213
CREATED:20250624T105813Z
LAST-MODIFIED:20250624T105813Z
UID:2970-1750932000-1750935600@heavener.news
SUMMARY:Paula Earls funeral service
DESCRIPTION:Paula Eunice Earls obituary planned: https://heavener.news/paula-eunice-earls-obituary/
URL:https://heavener.news/event/paula-earls-funeral-service/
LOCATION:Evans & Miller Funeral Home\, 411 Dewey Avenue\, Poteau\, Oklahoma\, 74953
CATEGORIES:Obits
ATTACH;FMTTYPE=image/jpeg:https://heavener.news/wp-content/uploads/2025/06/paula-earls.jpg
END:VEVENT
BEGIN:VEVENT
DTSTART;TZID=America/Chicago:20250621T100000
DTEND;TZID=America/Chicago:20250621T110000
DTSTAMP:20260421T145213
CREATED:20250615T105407Z
LAST-MODIFIED:20250615T105407Z
UID:2794-1750500000-1750503600@heavener.news
SUMMARY:Carolyn Sue Pratt funeral service
DESCRIPTION:Carolyn Sue Pratt obituary: https://heavener.news/carolyn-sue-pratt-obituary/
URL:https://heavener.news/event/carolyn-sue-pratt-funeral-service/
LOCATION:Valley Christian Church\, Dallas Street\, Talihina\, Oklahoma\, 74571
CATEGORIES:Obits
ATTACH;FMTTYPE=image/jpeg:https://heavener.news/wp-content/uploads/2025/06/d4894ecf-7246-4f85-93c0-864dde335c0c.jpg
END:VEVENT
BEGIN:VEVENT
DTSTART;TZID=America/Chicago:20250614T140000
DTEND;TZID=America/Chicago:20250614T150000
DTSTAMP:20260421T145213
CREATED:20250614T125946Z
LAST-MODIFIED:20250614T125946Z
UID:2773-1749909600-1749913200@heavener.news
SUMMARY:Nancy Bentley memorial service
DESCRIPTION:Nancy Bentley obituary: https://heavener.news/nancy-clark-bentley-obituary/
URL:https://heavener.news/event/nancy-bentley-memorial-service/
LOCATION:Poteau Church of Christ\, 20690 292nd Street\, Poteau\, Oklahoma\, 74953
CATEGORIES:Obits
ATTACH;FMTTYPE=image/jpeg:https://heavener.news/wp-content/uploads/2025/06/1081567.jpg
END:VEVENT
BEGIN:VEVENT
DTSTART;TZID=America/Chicago:20250614T130000
DTEND;TZID=America/Chicago:20250614T140000
DTSTAMP:20260421T145213
CREATED:20250603T103823Z
LAST-MODIFIED:20250603T103823Z
UID:2452-1749906000-1749909600@heavener.news
SUMMARY:Memorial service for James (Jim) Robert Stanley
DESCRIPTION:
URL:https://heavener.news/event/memorial-service-for-james-jim-robert-stanley/
LOCATION:Dowden-Roberts Funeral Home\, 710 U.S. 270\, Heavener\, Ok\, 74937
CATEGORIES:Obits
ATTACH;FMTTYPE=image/jpeg:https://heavener.news/wp-content/uploads/2025/06/Jim-Stanleys-Pic.jpg
END:VEVENT
BEGIN:VEVENT
DTSTART;TZID=America/Chicago:20250613T140000
DTEND;TZID=America/Chicago:20250613T150000
DTSTAMP:20260421T145213
CREATED:20250610T095228Z
LAST-MODIFIED:20250610T095230Z
UID:2635-1749823200-1749826800@heavener.news
SUMMARY:Roger Naylor memorial service
DESCRIPTION:Roger Dail Naylor funeral service set: https://heavener.news/roger-dail-naylor-memorial-service-set/
URL:https://heavener.news/event/roger-naylor-memorial-service/
LOCATION:Dowden-Roberts Funeral Home\, 710 U.S. 270\, Heavener\, Ok\, 74937
CATEGORIES:Obits
ATTACH;FMTTYPE=image/jpeg:https://heavener.news/wp-content/uploads/2025/06/Roger-Naylor-pic.jpg
END:VEVENT
BEGIN:VEVENT
DTSTART;TZID=America/Chicago:20250611T140000
DTEND;TZID=America/Chicago:20250611T150000
DTSTAMP:20260421T145213
CREATED:20250610T084722Z
LAST-MODIFIED:20250610T090802Z
UID:2627-1749650400-1749654000@heavener.news
SUMMARY:Leta Mae (Ross) Hamner funeral services
DESCRIPTION:Leta Mae (Ross) Hamner services set: https://heavener.news/leta-mae-ross-hamner-services-set-leta-mae-ross-hamner/
URL:https://heavener.news/event/leta-mae-ross-hamner-funeral-services/
LOCATION:Dowden-Roberts Funeral Home\, 710 U.S. 270\, Heavener\, Ok\, 74937
CATEGORIES:Obits
ATTACH;FMTTYPE=image/png:https://heavener.news/wp-content/uploads/2025/06/Leta-Hamner-pic.png
END:VEVENT
BEGIN:VEVENT
DTSTART;TZID=America/Chicago:20250608T140000
DTEND;TZID=America/Chicago:20250608T150000
DTSTAMP:20260421T145213
CREATED:20250606T134817Z
LAST-MODIFIED:20250606T134840Z
UID:2538-1749391200-1749394800@heavener.news
SUMMARY:Ronnie 'RP' Parent memorial service
DESCRIPTION:Obituary for Ronnie “RP” Parent: https://heavener.news/ronnie-douglas-rp-parent-obituary/
URL:https://heavener.news/event/ronnie-rp-parent-memorial-service/
LOCATION:Mallory-Martin Funeral Home\, 112 North Main Street\, Spiro\, Oklahoma\, 74959
CATEGORIES:Obits
ATTACH;FMTTYPE=image/jpeg:https://heavener.news/wp-content/uploads/2025/06/parent-rp.jpg
END:VEVENT
BEGIN:VEVENT
DTSTART;TZID=America/Chicago:20250531T110000
DTEND;TZID=America/Chicago:20250531T120000
DTSTAMP:20260421T145213
CREATED:20250530T101913Z
LAST-MODIFIED:20250530T101913Z
UID:2360-1748689200-1748692800@heavener.news
SUMMARY:Graveside service for Melissa Ann Hall
DESCRIPTION:Obituary for Melissa Ann Hall: https://heavener.news/obituary-for-melissa-ann-hall/
URL:https://heavener.news/event/graveside-service-for-melissa-ann-hall/
LOCATION:Mt. View Cemetery in Glendale\, Oklahoma\, Glendale Road\, Heavener\, Ok.\, 74937
CATEGORIES:Obits
ATTACH;FMTTYPE=image/jpeg:https://heavener.news/wp-content/uploads/2025/05/781448993.jpg
END:VEVENT
BEGIN:VEVENT
DTSTART;TZID=America/Chicago:20250327T100000
DTEND;TZID=America/Chicago:20250327T110000
DTSTAMP:20260421T145213
CREATED:20250326T140343Z
LAST-MODIFIED:20250326T140343Z
UID:1109-1743069600-1743073200@heavener.news
SUMMARY:Funeral service for Jolene Vaughn
DESCRIPTION:Funeral service for Jolene Vaughn\nFuneral service for Jolene Vaughn: https://wp.me/pgmbVO-hM
URL:https://heavener.news/event/funeral-service-for-jolene-vaughn/
LOCATION:Dowden-Roberts Funeral Home\, 710 U.S. 270\, Heavener\, Ok\, 74937
CATEGORIES:Obits
ATTACH;FMTTYPE=image/jpeg:https://heavener.news/wp-content/uploads/2025/03/Jolene-vaughn-pic.jpg
END:VEVENT
BEGIN:VEVENT
DTSTART;TZID=America/Chicago:20250321T110000
DTEND;TZID=America/Chicago:20250321T120000
DTSTAMP:20260421T145213
CREATED:20250320T122907Z
LAST-MODIFIED:20250321T122034Z
UID:908-1742554800-1742558400@heavener.news
SUMMARY:Judy Hall funeral service
DESCRIPTION:Judy Hall funeral service planned: https://wp.me/pgmbVO-ex
URL:https://heavener.news/event/judy-hall-funeral-service/
LOCATION:Dowden-Roberts Funeral Home\, 710 U.S. 270\, Heavener\, Ok\, 74937
CATEGORIES:Obits
ATTACH;FMTTYPE=image/jpeg:https://heavener.news/wp-content/uploads/2025/03/funeral-flowers-second.jpg
END:VEVENT
BEGIN:VEVENT
DTSTART;TZID=America/Chicago:20250320T140000
DTEND;TZID=America/Chicago:20250320T150000
DTSTAMP:20260421T145213
CREATED:20250319T123556Z
LAST-MODIFIED:20250319T123556Z
UID:876-1742479200-1742482800@heavener.news
SUMMARY:Ray Barker funeral service
DESCRIPTION:Loren Ray Baker funeral service set: https://wp.me/pgmbVO-e2
URL:https://heavener.news/event/ray-barker-funeral-service/
LOCATION:Dowden-Roberts Funeral Home\, 710 U.S. 270\, Heavener\, Ok\, 74937
CATEGORIES:Obits
ATTACH;FMTTYPE=image/jpeg:https://heavener.news/wp-content/uploads/2025/03/Ray-Barker-pic.jpg
END:VEVENT
BEGIN:VEVENT
DTSTART;TZID=America/Chicago:20250318T140000
DTEND;TZID=America/Chicago:20250318T150000
DTSTAMP:20260421T145213
CREATED:20250317T134835Z
LAST-MODIFIED:20250317T134835Z
UID:837-1742306400-1742310000@heavener.news
SUMMARY:Norma Fox funeral service
DESCRIPTION:Norma Jean Fox service planned: https://wp.me/pgmbVO-ds
URL:https://heavener.news/event/norma-fox-funeral-service/
LOCATION:Hontubby Cemetery\, 17534 Hontubby Rd\, Heavener\, Oklahoma\, 74937
CATEGORIES:Obits
ATTACH;FMTTYPE=image/jpeg:https://heavener.news/wp-content/uploads/2025/03/Norma-Fox-pic.jpg
END:VEVENT
BEGIN:VEVENT
DTSTART;TZID=America/Chicago:20250317T100000
DTEND;TZID=America/Chicago:20250317T110000
DTSTAMP:20260421T145213
CREATED:20250316T112803Z
LAST-MODIFIED:20250316T112803Z
UID:828-1742205600-1742209200@heavener.news
SUMMARY:Jackie Washington funeral service
DESCRIPTION:Jackie Washington funeral service planned: https://wp.me/pgmbVO-dj
URL:https://heavener.news/event/jackie-washington-funeral-service/
LOCATION:Dowden-Roberts Funeral Home\, 710 U.S. 270\, Heavener\, Ok\, 74937
CATEGORIES:Obits
ATTACH;FMTTYPE=image/jpeg:https://heavener.news/wp-content/uploads/2025/03/Washington-Jackie.jpg
END:VEVENT
BEGIN:VEVENT
DTSTART;TZID=America/Chicago:20250316T140000
DTEND;TZID=America/Chicago:20250316T150000
DTSTAMP:20260421T145213
CREATED:20250311T134028Z
LAST-MODIFIED:20250311T134028Z
UID:709-1742133600-1742137200@heavener.news
SUMMARY:Funeral service for Rebecca Seaton
DESCRIPTION: Rebecca Seaton obituary: https://wp.me/pgmbVO-bo
URL:https://heavener.news/event/funeral-service-for-rebecca-seaton/
LOCATION:Dowden-Roberts Funeral Home\, 710 U.S. 270\, Heavener\, Ok\, 74937
CATEGORIES:Obits
ATTACH;FMTTYPE=image/jpeg:https://heavener.news/wp-content/uploads/2025/03/20250310112419352_0001.jpg
END:VEVENT
BEGIN:VEVENT
DTSTART;TZID=America/Chicago:20250313T140000
DTEND;TZID=America/Chicago:20250313T150000
DTSTAMP:20260421T145213
CREATED:20250312T095655Z
LAST-MODIFIED:20250312T095655Z
UID:733-1741874400-1741878000@heavener.news
SUMMARY:Funeral service for Leisa Ann Massey
DESCRIPTION:Leisa Ann Massey service planned: https://wp.me/pgmbVO-bM
URL:https://heavener.news/event/funeral-service-for-leisa-ann-massey/
LOCATION:Dowden-Roberts Funeral Home\, 710 U.S. 270\, Heavener\, Ok\, 74937
CATEGORIES:Obits
ATTACH;FMTTYPE=image/jpeg:https://heavener.news/wp-content/uploads/2025/03/Leisa-Massey-pic.jpg
END:VEVENT
END:VCALENDAR