BEGIN:VCALENDAR
VERSION:2.0
PRODID:-// - ECPv6.15.20//NONSGML v1.0//EN
CALSCALE:GREGORIAN
METHOD:PUBLISH
X-ORIGINAL-URL:https://heavener.news
X-WR-CALDESC:Events for 
REFRESH-INTERVAL;VALUE=DURATION:PT1H
X-Robots-Tag:noindex
X-PUBLISHED-TTL:PT1H
BEGIN:VTIMEZONE
TZID:America/Chicago
BEGIN:DAYLIGHT
TZOFFSETFROM:-0600
TZOFFSETTO:-0500
TZNAME:CDT
DTSTART:20240310T080000
END:DAYLIGHT
BEGIN:STANDARD
TZOFFSETFROM:-0500
TZOFFSETTO:-0600
TZNAME:CST
DTSTART:20241103T070000
END:STANDARD
BEGIN:DAYLIGHT
TZOFFSETFROM:-0600
TZOFFSETTO:-0500
TZNAME:CDT
DTSTART:20250309T080000
END:DAYLIGHT
BEGIN:STANDARD
TZOFFSETFROM:-0500
TZOFFSETTO:-0600
TZNAME:CST
DTSTART:20251102T070000
END:STANDARD
BEGIN:DAYLIGHT
TZOFFSETFROM:-0600
TZOFFSETTO:-0500
TZNAME:CDT
DTSTART:20260308T080000
END:DAYLIGHT
BEGIN:STANDARD
TZOFFSETFROM:-0500
TZOFFSETTO:-0600
TZNAME:CST
DTSTART:20261101T070000
END:STANDARD
END:VTIMEZONE
BEGIN:VEVENT
DTSTART;TZID=America/Chicago:20250327T100000
DTEND;TZID=America/Chicago:20250327T110000
DTSTAMP:20260425T233554
CREATED:20250326T140343Z
LAST-MODIFIED:20250326T140343Z
UID:1109-1743069600-1743073200@heavener.news
SUMMARY:Funeral service for Jolene Vaughn
DESCRIPTION:Funeral service for Jolene Vaughn\nFuneral service for Jolene Vaughn: https://wp.me/pgmbVO-hM
URL:https://heavener.news/event/funeral-service-for-jolene-vaughn/
LOCATION:Dowden-Roberts Funeral Home\, 710 U.S. 270\, Heavener\, Ok\, 74937
CATEGORIES:Obits
ATTACH;FMTTYPE=image/jpeg:https://heavener.news/wp-content/uploads/2025/03/Jolene-vaughn-pic.jpg
END:VEVENT
BEGIN:VEVENT
DTSTART;TZID=America/Chicago:20250321T110000
DTEND;TZID=America/Chicago:20250321T120000
DTSTAMP:20260425T233554
CREATED:20250320T122907Z
LAST-MODIFIED:20250321T122034Z
UID:908-1742554800-1742558400@heavener.news
SUMMARY:Judy Hall funeral service
DESCRIPTION:Judy Hall funeral service planned: https://wp.me/pgmbVO-ex
URL:https://heavener.news/event/judy-hall-funeral-service/
LOCATION:Dowden-Roberts Funeral Home\, 710 U.S. 270\, Heavener\, Ok\, 74937
CATEGORIES:Obits
ATTACH;FMTTYPE=image/jpeg:https://heavener.news/wp-content/uploads/2025/03/funeral-flowers-second.jpg
END:VEVENT
BEGIN:VEVENT
DTSTART;TZID=America/Chicago:20250320T140000
DTEND;TZID=America/Chicago:20250320T150000
DTSTAMP:20260425T233554
CREATED:20250319T123556Z
LAST-MODIFIED:20250319T123556Z
UID:876-1742479200-1742482800@heavener.news
SUMMARY:Ray Barker funeral service
DESCRIPTION:Loren Ray Baker funeral service set: https://wp.me/pgmbVO-e2
URL:https://heavener.news/event/ray-barker-funeral-service/
LOCATION:Dowden-Roberts Funeral Home\, 710 U.S. 270\, Heavener\, Ok\, 74937
CATEGORIES:Obits
ATTACH;FMTTYPE=image/jpeg:https://heavener.news/wp-content/uploads/2025/03/Ray-Barker-pic.jpg
END:VEVENT
BEGIN:VEVENT
DTSTART;TZID=America/Chicago:20250318T140000
DTEND;TZID=America/Chicago:20250318T150000
DTSTAMP:20260425T233554
CREATED:20250317T134835Z
LAST-MODIFIED:20250317T134835Z
UID:837-1742306400-1742310000@heavener.news
SUMMARY:Norma Fox funeral service
DESCRIPTION:Norma Jean Fox service planned: https://wp.me/pgmbVO-ds
URL:https://heavener.news/event/norma-fox-funeral-service/
LOCATION:Hontubby Cemetery\, 17534 Hontubby Rd\, Heavener\, Oklahoma\, 74937
CATEGORIES:Obits
ATTACH;FMTTYPE=image/jpeg:https://heavener.news/wp-content/uploads/2025/03/Norma-Fox-pic.jpg
END:VEVENT
BEGIN:VEVENT
DTSTART;TZID=America/Chicago:20250317T100000
DTEND;TZID=America/Chicago:20250317T110000
DTSTAMP:20260425T233554
CREATED:20250316T112803Z
LAST-MODIFIED:20250316T112803Z
UID:828-1742205600-1742209200@heavener.news
SUMMARY:Jackie Washington funeral service
DESCRIPTION:Jackie Washington funeral service planned: https://wp.me/pgmbVO-dj
URL:https://heavener.news/event/jackie-washington-funeral-service/
LOCATION:Dowden-Roberts Funeral Home\, 710 U.S. 270\, Heavener\, Ok\, 74937
CATEGORIES:Obits
ATTACH;FMTTYPE=image/jpeg:https://heavener.news/wp-content/uploads/2025/03/Washington-Jackie.jpg
END:VEVENT
BEGIN:VEVENT
DTSTART;TZID=America/Chicago:20250316T140000
DTEND;TZID=America/Chicago:20250316T150000
DTSTAMP:20260425T233554
CREATED:20250311T134028Z
LAST-MODIFIED:20250311T134028Z
UID:709-1742133600-1742137200@heavener.news
SUMMARY:Funeral service for Rebecca Seaton
DESCRIPTION: Rebecca Seaton obituary: https://wp.me/pgmbVO-bo
URL:https://heavener.news/event/funeral-service-for-rebecca-seaton/
LOCATION:Dowden-Roberts Funeral Home\, 710 U.S. 270\, Heavener\, Ok\, 74937
CATEGORIES:Obits
ATTACH;FMTTYPE=image/jpeg:https://heavener.news/wp-content/uploads/2025/03/20250310112419352_0001.jpg
END:VEVENT
BEGIN:VEVENT
DTSTART;TZID=America/Chicago:20250313T140000
DTEND;TZID=America/Chicago:20250313T150000
DTSTAMP:20260425T233554
CREATED:20250312T095655Z
LAST-MODIFIED:20250312T095655Z
UID:733-1741874400-1741878000@heavener.news
SUMMARY:Funeral service for Leisa Ann Massey
DESCRIPTION:Leisa Ann Massey service planned: https://wp.me/pgmbVO-bM
URL:https://heavener.news/event/funeral-service-for-leisa-ann-massey/
LOCATION:Dowden-Roberts Funeral Home\, 710 U.S. 270\, Heavener\, Ok\, 74937
CATEGORIES:Obits
ATTACH;FMTTYPE=image/jpeg:https://heavener.news/wp-content/uploads/2025/03/Leisa-Massey-pic.jpg
END:VEVENT
BEGIN:VEVENT
DTSTART;TZID=America/Chicago:20250307T130000
DTEND;TZID=America/Chicago:20250307T140000
DTSTAMP:20260425T233554
CREATED:20250303T180749Z
LAST-MODIFIED:20250303T180749Z
UID:470-1741352400-1741356000@heavener.news
SUMMARY:Funeral service for Willa Sue Blaylock
DESCRIPTION:Willa Sue Blaylock obituary: https://wp.me/pgmbVO-7t
URL:https://heavener.news/event/funeral-service-for-willa-sue-blaylock/
LOCATION:Dowden-Roberts Funeral Home\, 710 U.S. 270\, Heavener\, Ok\, 74937
CATEGORIES:Obits
ATTACH;FMTTYPE=image/jpeg:https://heavener.news/wp-content/uploads/2025/03/willa-sue.jpg
END:VEVENT
END:VCALENDAR