BEGIN:VCALENDAR
VERSION:2.0
PRODID:-// - ECPv6.15.20//NONSGML v1.0//EN
CALSCALE:GREGORIAN
METHOD:PUBLISH
X-ORIGINAL-URL:https://heavener.news
X-WR-CALDESC:Events for 
REFRESH-INTERVAL;VALUE=DURATION:PT1H
X-Robots-Tag:noindex
X-PUBLISHED-TTL:PT1H
BEGIN:VTIMEZONE
TZID:America/Chicago
BEGIN:DAYLIGHT
TZOFFSETFROM:-0600
TZOFFSETTO:-0500
TZNAME:CDT
DTSTART:20240310T080000
END:DAYLIGHT
BEGIN:STANDARD
TZOFFSETFROM:-0500
TZOFFSETTO:-0600
TZNAME:CST
DTSTART:20241103T070000
END:STANDARD
BEGIN:DAYLIGHT
TZOFFSETFROM:-0600
TZOFFSETTO:-0500
TZNAME:CDT
DTSTART:20250309T080000
END:DAYLIGHT
BEGIN:STANDARD
TZOFFSETFROM:-0500
TZOFFSETTO:-0600
TZNAME:CST
DTSTART:20251102T070000
END:STANDARD
BEGIN:DAYLIGHT
TZOFFSETFROM:-0600
TZOFFSETTO:-0500
TZNAME:CDT
DTSTART:20260308T080000
END:DAYLIGHT
BEGIN:STANDARD
TZOFFSETFROM:-0500
TZOFFSETTO:-0600
TZNAME:CST
DTSTART:20261101T070000
END:STANDARD
END:VTIMEZONE
BEGIN:VEVENT
DTSTART;TZID=America/Chicago:20250305T180000
DTEND;TZID=America/Chicago:20250305T193000
DTSTAMP:20260424T091117
CREATED:20250305T121620Z
LAST-MODIFIED:20250305T121620Z
UID:537-1741197600-1741203000@heavener.news
SUMMARY:Whitesboro vs. Kiowa
DESCRIPTION:Whitesboro girls play Kiowa in an opening round of the Class B state tournament at 6 p.m. Wednesday.
URL:https://heavener.news/event/whitesboro-vs-kiowa/
LOCATION:Oklahoma City Fairgrounds\, Intersection of I-40 and I-44\, Oklahoma City\, Oklahoma
CATEGORIES:Sports
END:VEVENT
BEGIN:VEVENT
DTSTART;TZID=America/Chicago:20250225T013000
DTEND;TZID=America/Chicago:20250225T020000
DTSTAMP:20260424T091117
CREATED:20250219T120755Z
LAST-MODIFIED:20250219T120758Z
UID:241-1740447000-1740448800@heavener.news
SUMMARY:Heavener High School blood drive
DESCRIPTION:Heavener High School blood drive
URL:https://heavener.news/event/heavener-high-school-blood-drive/
LOCATION:Heavener High School\, East Avenue G and 5th Street\, Heavener\, OK\, 74937\, United States
END:VEVENT
BEGIN:VEVENT
DTSTART;TZID=America/Chicago:20250223T180000
DTEND;TZID=America/Chicago:20250223T210000
DTSTAMP:20260424T091117
CREATED:20250214T170951Z
LAST-MODIFIED:20250218T103036Z
UID:96-1740333600-1740344400@heavener.news
SUMMARY:District basketball tournament
DESCRIPTION:Class 3A district basketball tournament Heavener at Spiro
URL:https://heavener.news/event/district-basketball-tournament/
LOCATION:Spiro gymnasium\, 600 West Broadway Sreet\, Spiro\, Oklahoma\, 74959
CATEGORIES:Sports
ATTACH;FMTTYPE=image/png:https://heavener.news/wp-content/uploads/2025/02/990A0575-copy-small.png
END:VEVENT
BEGIN:VEVENT
DTSTART;TZID=America/Chicago:20250221T180000
DTEND;TZID=America/Chicago:20250221T210000
DTSTAMP:20260424T091117
CREATED:20250214T112328Z
LAST-MODIFIED:20250214T114250Z
UID:66-1740160800-1740171600@heavener.news
SUMMARY:HUA\, City Council meet
DESCRIPTION:Heavener Utilities Authority and City Council meet
URL:https://heavener.news/event/hua-city-council-meet/
LOCATION:Heavener City Hall\, 103 East Avenue B\, Heavener\, Oklahoma\, 74937
END:VEVENT
BEGIN:VEVENT
DTSTART;TZID=America/Chicago:20250217T180000
DTEND;TZID=America/Chicago:20250217T210000
DTSTAMP:20260424T091117
CREATED:20250214T115018Z
LAST-MODIFIED:20250217T130443Z
UID:75-1739815200-1739826000@heavener.news
SUMMARY:Heavener at Muldrow basketball
DESCRIPTION:Heavener’s basketball teams play at Muldrow in the last regular season games.
URL:https://heavener.news/event/heavener-at-muldrow-basketball/
LOCATION:Muldrow High School\, 801 W Shawntel Smith Blvd\, Muldrow\, Oklahoma\, 74948
CATEGORIES:Sports
END:VEVENT
END:VCALENDAR