BEGIN:VCALENDAR
VERSION:2.0
PRODID:-// - ECPv6.15.20//NONSGML v1.0//EN
CALSCALE:GREGORIAN
METHOD:PUBLISH
X-ORIGINAL-URL:https://heavener.news
X-WR-CALDESC:Events for 
REFRESH-INTERVAL;VALUE=DURATION:PT1H
X-Robots-Tag:noindex
X-PUBLISHED-TTL:PT1H
BEGIN:VTIMEZONE
TZID:America/Chicago
BEGIN:DAYLIGHT
TZOFFSETFROM:-0600
TZOFFSETTO:-0500
TZNAME:CDT
DTSTART:20240310T080000
END:DAYLIGHT
BEGIN:STANDARD
TZOFFSETFROM:-0500
TZOFFSETTO:-0600
TZNAME:CST
DTSTART:20241103T070000
END:STANDARD
BEGIN:DAYLIGHT
TZOFFSETFROM:-0600
TZOFFSETTO:-0500
TZNAME:CDT
DTSTART:20250309T080000
END:DAYLIGHT
BEGIN:STANDARD
TZOFFSETFROM:-0500
TZOFFSETTO:-0600
TZNAME:CST
DTSTART:20251102T070000
END:STANDARD
BEGIN:DAYLIGHT
TZOFFSETFROM:-0600
TZOFFSETTO:-0500
TZNAME:CDT
DTSTART:20260308T080000
END:DAYLIGHT
BEGIN:STANDARD
TZOFFSETFROM:-0500
TZOFFSETTO:-0600
TZNAME:CST
DTSTART:20261101T070000
END:STANDARD
END:VTIMEZONE
BEGIN:VEVENT
DTSTART;TZID=America/Chicago:20250623T090000
DTEND;TZID=America/Chicago:20250623T100000
DTSTAMP:20260423T090517
CREATED:20250620T113331Z
LAST-MODIFIED:20250620T113334Z
UID:2897-1750669200-1750672800@heavener.news
SUMMARY:LeFlore County commissioners meet
DESCRIPTION:
URL:https://heavener.news/event/leflore-county-commissioners-meet-4/
LOCATION:LeFlore County courthouse\, 100 South Broadway\, Poteau\, Oklahoma
ATTACH;FMTTYPE=image/jpeg:https://heavener.news/wp-content/uploads/2025/04/courthouse.jpg
END:VEVENT
BEGIN:VEVENT
DTSTART;TZID=America/Chicago:20250621T100000
DTEND;TZID=America/Chicago:20250621T110000
DTSTAMP:20260423T090517
CREATED:20250615T105407Z
LAST-MODIFIED:20250615T105407Z
UID:2794-1750500000-1750503600@heavener.news
SUMMARY:Carolyn Sue Pratt funeral service
DESCRIPTION:Carolyn Sue Pratt obituary: https://heavener.news/carolyn-sue-pratt-obituary/
URL:https://heavener.news/event/carolyn-sue-pratt-funeral-service/
LOCATION:Valley Christian Church\, Dallas Street\, Talihina\, Oklahoma\, 74571
CATEGORIES:Obits
ATTACH;FMTTYPE=image/jpeg:https://heavener.news/wp-content/uploads/2025/06/d4894ecf-7246-4f85-93c0-864dde335c0c.jpg
END:VEVENT
BEGIN:VEVENT
DTSTART;TZID=America/Chicago:20250621T000000
DTEND;TZID=America/Chicago:20250621T235959
DTSTAMP:20260423T090517
CREATED:20250604T121508Z
LAST-MODIFIED:20250604T121513Z
UID:2491-1750464000-1750550399@heavener.news
SUMMARY:Summer solstice at Spiro Mounds
DESCRIPTION:Summer solstice planned for Spiro Mounds: https://heavener.news/spiro-mounds-to-hold-summer-solstice/
URL:https://heavener.news/event/summer-solstice-at-spiro-mounds/
LOCATION:Spiro Mounds\, 18154 First Street\, Spiro\, Oklahoma\, 74959
ATTACH;FMTTYPE=image/jpeg:https://heavener.news/wp-content/uploads/2025/04/spiro-mounds.jpg
END:VEVENT
BEGIN:VEVENT
DTSTART;TZID=America/Chicago:20250619T180000
DTEND;TZID=America/Chicago:20250619T200000
DTSTAMP:20260423T090517
CREATED:20250619T130217Z
LAST-MODIFIED:20250619T130627Z
UID:2880-1750356000-1750363200@heavener.news
SUMMARY:HUA\, City Council to meet
DESCRIPTION:Heavener Utilities Authority\, Council to meet 6-19-2025: https://heavener.news/heavener-utilities-authority-council-to-meet-6-19-2025/
URL:https://heavener.news/event/hua-city-council-to-meet/
LOCATION:Heavener City Hall\, 103 East Avenue B\, Heavener\, Oklahoma\, 74937
CATEGORIES:Event
ATTACH;FMTTYPE=image/jpeg:https://heavener.news/wp-content/uploads/2025/05/Heavener-City-Hall-e1750338286717.jpg
END:VEVENT
BEGIN:VEVENT
DTSTART;TZID=America/Chicago:20250618T130000
DTEND;TZID=America/Chicago:20250618T180000
DTSTAMP:20260423T090517
CREATED:20250606T132532Z
LAST-MODIFIED:20250606T132535Z
UID:2532-1750251600-1750269600@heavener.news
SUMMARY:Heavener Boots and Badges blood drive
DESCRIPTION:
URL:https://heavener.news/event/heavener-boots-and-badges-blood-drive/
LOCATION:Heavener High School\, East Avenue G and 5th Street\, Heavener\, OK\, 74937\, United States
CATEGORIES:Event
ATTACH;FMTTYPE=image/jpeg:https://heavener.news/wp-content/uploads/2025/06/image010.jpg
END:VEVENT
BEGIN:VEVENT
DTSTART;TZID=America/Chicago:20250616T090000
DTEND;TZID=America/Chicago:20250616T213000
DTSTAMP:20260423T090517
CREATED:20250616T130443Z
LAST-MODIFIED:20250616T130443Z
UID:2811-1750064400-1750109400@heavener.news
SUMMARY:LeFlore County commissioners meet
DESCRIPTION:Regularly scheduled meeting
URL:https://heavener.news/event/leflore-county-commissioners-meet-3/
LOCATION:LeFlore County courthouse\, 100 South Broadway\, Poteau\, Oklahoma
CATEGORIES:Event
ATTACH;FMTTYPE=image/jpeg:https://heavener.news/wp-content/uploads/2025/04/courthouse.jpg
END:VEVENT
BEGIN:VEVENT
DTSTART;TZID=America/Chicago:20250614T150000
DTEND;TZID=America/Chicago:20250614T220000
DTSTAMP:20260423T090517
CREATED:20250608T133316Z
LAST-MODIFIED:20250608T133412Z
UID:2585-1749913200-1749938400@heavener.news
SUMMARY:Heavener Runestone jeep invasion
DESCRIPTION:
URL:https://heavener.news/event/heavener-runestone-jeep-invasion/
LOCATION:Heavener Runestone Park\, 18365 Runestone Road\, Heavener\, Oklahoma\, 74937
CATEGORIES:Event
ATTACH;FMTTYPE=image/jpeg:https://heavener.news/wp-content/uploads/2025/06/498210190_1123687829788690_8807539315768070478_n.jpg
END:VEVENT
BEGIN:VEVENT
DTSTART;TZID=America/Chicago:20250614T140000
DTEND;TZID=America/Chicago:20250614T150000
DTSTAMP:20260423T090517
CREATED:20250614T125946Z
LAST-MODIFIED:20250614T125946Z
UID:2773-1749909600-1749913200@heavener.news
SUMMARY:Nancy Bentley memorial service
DESCRIPTION:Nancy Bentley obituary: https://heavener.news/nancy-clark-bentley-obituary/
URL:https://heavener.news/event/nancy-bentley-memorial-service/
LOCATION:Poteau Church of Christ\, 20690 292nd Street\, Poteau\, Oklahoma\, 74953
CATEGORIES:Obits
ATTACH;FMTTYPE=image/jpeg:https://heavener.news/wp-content/uploads/2025/06/1081567.jpg
END:VEVENT
BEGIN:VEVENT
DTSTART;TZID=America/Chicago:20250614T130000
DTEND;TZID=America/Chicago:20250614T140000
DTSTAMP:20260423T090517
CREATED:20250603T103823Z
LAST-MODIFIED:20250603T103823Z
UID:2452-1749906000-1749909600@heavener.news
SUMMARY:Memorial service for James (Jim) Robert Stanley
DESCRIPTION:
URL:https://heavener.news/event/memorial-service-for-james-jim-robert-stanley/
LOCATION:Dowden-Roberts Funeral Home\, 710 U.S. 270\, Heavener\, Ok\, 74937
CATEGORIES:Obits
ATTACH;FMTTYPE=image/jpeg:https://heavener.news/wp-content/uploads/2025/06/Jim-Stanleys-Pic.jpg
END:VEVENT
BEGIN:VEVENT
DTSTART;TZID=America/Chicago:20250613T140000
DTEND;TZID=America/Chicago:20250613T150000
DTSTAMP:20260423T090517
CREATED:20250610T095228Z
LAST-MODIFIED:20250610T095230Z
UID:2635-1749823200-1749826800@heavener.news
SUMMARY:Roger Naylor memorial service
DESCRIPTION:Roger Dail Naylor funeral service set: https://heavener.news/roger-dail-naylor-memorial-service-set/
URL:https://heavener.news/event/roger-naylor-memorial-service/
LOCATION:Dowden-Roberts Funeral Home\, 710 U.S. 270\, Heavener\, Ok\, 74937
CATEGORIES:Obits
ATTACH;FMTTYPE=image/jpeg:https://heavener.news/wp-content/uploads/2025/06/Roger-Naylor-pic.jpg
END:VEVENT
BEGIN:VEVENT
DTSTART;TZID=America/Chicago:20250613T110000
DTEND;TZID=America/Chicago:20250613T170000
DTSTAMP:20260423T090517
CREATED:20250613T131104Z
LAST-MODIFIED:20250613T131201Z
UID:2749-1749812400-1749834000@heavener.news
SUMMARY:Poteau food market
DESCRIPTION:
URL:https://heavener.news/event/poteau-food-market/
LOCATION:Two Twenty event park\, Broadway Street\, Poteau\, ok
CATEGORIES:Event
ATTACH;FMTTYPE=image/jpeg:https://heavener.news/wp-content/uploads/2025/06/Friday-13th-Farmers-Market.jpg
END:VEVENT
BEGIN:VEVENT
DTSTART;TZID=America/Chicago:20250611T140000
DTEND;TZID=America/Chicago:20250611T150000
DTSTAMP:20260423T090517
CREATED:20250610T084722Z
LAST-MODIFIED:20250610T090802Z
UID:2627-1749650400-1749654000@heavener.news
SUMMARY:Leta Mae (Ross) Hamner funeral services
DESCRIPTION:Leta Mae (Ross) Hamner services set: https://heavener.news/leta-mae-ross-hamner-services-set-leta-mae-ross-hamner/
URL:https://heavener.news/event/leta-mae-ross-hamner-funeral-services/
LOCATION:Dowden-Roberts Funeral Home\, 710 U.S. 270\, Heavener\, Ok\, 74937
CATEGORIES:Obits
ATTACH;FMTTYPE=image/png:https://heavener.news/wp-content/uploads/2025/06/Leta-Hamner-pic.png
END:VEVENT
BEGIN:VEVENT
DTSTART;TZID=America/Chicago:20250611T110000
DTEND;TZID=America/Chicago:20250611T120000
DTSTAMP:20260423T090517
CREATED:20250610T122021Z
LAST-MODIFIED:20250610T122024Z
UID:2650-1749639600-1749643200@heavener.news
SUMMARY:Memorial service for Norma Gale Haley
DESCRIPTION:Memorial service for Norma Gale Haley: https://heavener.news/memorial-service-for-norma-gale-haley/
URL:https://heavener.news/event/memorial-service-for-norma-gale-haley/
LOCATION:Mallory-Martin Funeral Home\, 112 North Main Street\, Spiro\, Oklahoma\, 74959
ATTACH;FMTTYPE=image/jpeg:https://heavener.news/wp-content/uploads/2025/06/Haley-Norma.jpg
END:VEVENT
BEGIN:VEVENT
DTSTART;TZID=America/Chicago:20250609T090000
DTEND;TZID=America/Chicago:20250609T093000
DTSTAMP:20260423T090517
CREATED:20250609T130043Z
LAST-MODIFIED:20250609T130046Z
UID:2616-1749459600-1749461400@heavener.news
SUMMARY:LeFlore County commissioners to meet
DESCRIPTION:
URL:https://heavener.news/event/leflore-county-commissioners-to-meet/
LOCATION:LeFlore County courthouse\, 100 South Broadway\, Poteau\, Oklahoma
ATTACH;FMTTYPE=image/jpeg:https://heavener.news/wp-content/uploads/2025/04/courthouse.jpg
END:VEVENT
BEGIN:VEVENT
DTSTART;TZID=America/Chicago:20250608T140000
DTEND;TZID=America/Chicago:20250608T150000
DTSTAMP:20260423T090517
CREATED:20250606T134817Z
LAST-MODIFIED:20250606T134840Z
UID:2538-1749391200-1749394800@heavener.news
SUMMARY:Ronnie 'RP' Parent memorial service
DESCRIPTION:Obituary for Ronnie “RP” Parent: https://heavener.news/ronnie-douglas-rp-parent-obituary/
URL:https://heavener.news/event/ronnie-rp-parent-memorial-service/
LOCATION:Mallory-Martin Funeral Home\, 112 North Main Street\, Spiro\, Oklahoma\, 74959
CATEGORIES:Obits
ATTACH;FMTTYPE=image/jpeg:https://heavener.news/wp-content/uploads/2025/06/parent-rp.jpg
END:VEVENT
BEGIN:VEVENT
DTSTART;TZID=America/Chicago:20250607T090000
DTEND;TZID=America/Chicago:20250607T150000
DTSTAMP:20260423T090517
CREATED:20250528T105549Z
LAST-MODIFIED:20250528T105549Z
UID:2308-1749286800-1749308400@heavener.news
SUMMARY:2025 LeFlore County quilt show
DESCRIPTION:2025 LeFlore County quilt show coming June 6-7 \nMore information available here: \n2025 LeFlore County quilt show coming June 6-7: https://wp.me/pgmbVO-B4
URL:https://heavener.news/event/2025-leflore-county-quilt-show-2/
LOCATION:Southside Baptist Church in Poteau\, 509 Holson Avenue\, Poteau\, Oklahoma\, 74953
CATEGORIES:Event
ATTACH;FMTTYPE=image/jpeg:https://heavener.news/wp-content/uploads/2025/05/quilt-716838_1280.jpg
END:VEVENT
BEGIN:VEVENT
DTSTART;TZID=America/Chicago:20250606T090000
DTEND;TZID=America/Chicago:20250606T150000
DTSTAMP:20260423T090517
CREATED:20250528T105348Z
LAST-MODIFIED:20250528T105348Z
UID:2304-1749200400-1749222000@heavener.news
SUMMARY:2025 LeFlore County quilt show
DESCRIPTION:2025 LeFlore County quilt show coming June 6-7 \nMore information available here: \n2025 LeFlore County quilt show coming June 6-7: https://wp.me/pgmbVO-B4
URL:https://heavener.news/event/2025-leflore-county-quilt-show/
LOCATION:Southside Baptist Church in Poteau\, 509 Holson Avenue\, Poteau\, Oklahoma\, 74953
CATEGORIES:Event
ATTACH;FMTTYPE=image/jpeg:https://heavener.news/wp-content/uploads/2025/05/quilt-716838_1280.jpg
END:VEVENT
BEGIN:VEVENT
DTSTART;TZID=America/Chicago:20250605T180000
DTEND;TZID=America/Chicago:20250605T220000
DTSTAMP:20260423T090517
CREATED:20250528T112040Z
LAST-MODIFIED:20250528T112040Z
UID:2318-1749146400-1749160800@heavener.news
SUMMARY:Heavener City Council meets
DESCRIPTION:
URL:https://heavener.news/event/heavener-city-council-meets/
LOCATION:Heavener City Hall\, 103 East Avenue B\, Heavener\, Oklahoma\, 74937
ATTACH;FMTTYPE=image/jpeg:https://heavener.news/wp-content/uploads/2025/05/Heavener-City-Hall-e1750338286717.jpg
END:VEVENT
BEGIN:VEVENT
DTSTART;TZID=America/Chicago:20250605T100000
DTEND;TZID=America/Chicago:20250605T110000
DTSTAMP:20260423T090517
CREATED:20250604T105233Z
LAST-MODIFIED:20250604T105905Z
UID:2474-1749117600-1749121200@heavener.news
SUMMARY:Celebration of life for Larry Ray Masterso
DESCRIPTION:Larry Ray Masterson obituary: https://heavener.news/larry-ray-masterson-obituary/
URL:https://heavener.news/event/celebration-of-life-for-larry-ray-masterso/
LOCATION:First Baptist Church of Spiro\, 200 W Broadway Street\, Spiro\, Oklahoma\, 74959
ATTACH;FMTTYPE=image/jpeg:https://heavener.news/wp-content/uploads/2025/06/MASTERSON-BIG.jpg
END:VEVENT
BEGIN:VEVENT
DTSTART;TZID=America/Chicago:20250603T100000
DTEND;TZID=America/Chicago:20250603T110000
DTSTAMP:20260423T090517
CREATED:20250601T120830Z
LAST-MODIFIED:20250601T121123Z
UID:2392-1748944800-1748948400@heavener.news
SUMMARY:Funeral service for Cherry Ragan
DESCRIPTION:Obituary for Cherry Ragan: https://heavener.news/obituary-for-cherry-ragan/
URL:https://heavener.news/event/funeral-service-for-cherry-ragan/
LOCATION:Evans & Miller Funeral Home\, 411 Dewey Avenue\, Poteau\, Oklahoma\, 74953
CATEGORIES:Event
ATTACH;FMTTYPE=image/jpeg:https://heavener.news/wp-content/uploads/2025/06/9341896_fbs.jpg
END:VEVENT
BEGIN:VEVENT
DTSTART;TZID=America/Chicago:20250602T173000
DTEND;TZID=America/Chicago:20250602T180000
DTSTAMP:20260423T090517
CREATED:20250528T111400Z
LAST-MODIFIED:20250528T111400Z
UID:2314-1748885400-1748887200@heavener.news
SUMMARY:Poteau city meetings
DESCRIPTION:
URL:https://heavener.news/event/poteau-city-meetings/
LOCATION:Poteau City Hall\, 110 Peters Street\, Poteau\, Oklahoma\, 74953
CATEGORIES:Event
ATTACH;FMTTYPE=image/jpeg:https://heavener.news/wp-content/uploads/2025/05/poteau-city-hall.jpg
END:VEVENT
BEGIN:VEVENT
DTSTART;TZID=America/Chicago:20250602T090000
DTEND;TZID=America/Chicago:20250602T213000
DTSTAMP:20260423T090517
CREATED:20250528T110212Z
LAST-MODIFIED:20250528T110212Z
UID:2311-1748854800-1748899800@heavener.news
SUMMARY:LeFlore County commissioners meet
DESCRIPTION:Weekly commissioners’ meeting
URL:https://heavener.news/event/leflore-county-commissioners-meet-2/
LOCATION:LeFlore County courthouse\, 100 South Broadway\, Poteau\, Oklahoma
CATEGORIES:Event
ATTACH;FMTTYPE=image/jpeg:https://heavener.news/wp-content/uploads/2025/04/courthouse.jpg
END:VEVENT
BEGIN:VEVENT
DTSTART;TZID=America/Chicago:20250531T110000
DTEND;TZID=America/Chicago:20250531T120000
DTSTAMP:20260423T090517
CREATED:20250530T101913Z
LAST-MODIFIED:20250530T101913Z
UID:2360-1748689200-1748692800@heavener.news
SUMMARY:Graveside service for Melissa Ann Hall
DESCRIPTION:Obituary for Melissa Ann Hall: https://heavener.news/obituary-for-melissa-ann-hall/
URL:https://heavener.news/event/graveside-service-for-melissa-ann-hall/
LOCATION:Mt. View Cemetery in Glendale\, Oklahoma\, Glendale Road\, Heavener\, Ok.\, 74937
CATEGORIES:Obits
ATTACH;FMTTYPE=image/jpeg:https://heavener.news/wp-content/uploads/2025/05/781448993.jpg
END:VEVENT
BEGIN:VEVENT
DTSTART;TZID=America/Chicago:20250521T140000
DTEND;TZID=America/Chicago:20250521T150000
DTSTAMP:20260423T090517
CREATED:20250519T113433Z
LAST-MODIFIED:20250519T113437Z
UID:2229-1747836000-1747839600@heavener.news
SUMMARY:Nadine Shupert funeral services
DESCRIPTION:Frances Nadine Shupert services planned: https://wp.me/pgmbVO-zU
URL:https://heavener.news/event/nadine-shupert-funeral-services/
LOCATION:Loving Baptist Church\, Loving Road\, Heavener\, oklahoma\, 74937
ATTACH;FMTTYPE=image/jpeg:https://heavener.news/wp-content/uploads/2025/05/nadine-shupert.jpg
END:VEVENT
BEGIN:VEVENT
DTSTART;TZID=America/Chicago:20250517T160000
DTEND;TZID=America/Chicago:20250517T170000
DTSTAMP:20260423T090517
CREATED:20250516T113957Z
LAST-MODIFIED:20250516T114000Z
UID:2199-1747497600-1747501200@heavener.news
SUMMARY:Memorial service for Garlena Vickers
DESCRIPTION:Obituary for Garlena Vickers: https://wp.me/pgmbVO-zq
URL:https://heavener.news/event/memorial-service-for-garlena-vickers/
LOCATION:Oklahoma
ATTACH;FMTTYPE=image/jpeg:https://heavener.news/wp-content/uploads/2025/05/Garlena-Vickers.jpg
END:VEVENT
BEGIN:VEVENT
DTSTART;TZID=America/Chicago:20250510T090000
DTEND;TZID=America/Chicago:20250510T160000
DTSTAMP:20260423T090517
CREATED:20250425T135435Z
LAST-MODIFIED:20250425T135435Z
UID:1884-1746867600-1746892800@heavener.news
SUMMARY:Spiro Mounds 47th anniversary
DESCRIPTION:Spiro Mounds to celebrate 47th anniversary:https://wp.me/pgmbVO-uk
URL:https://heavener.news/event/spiro-mounds-47th-anniversary/
LOCATION:Spiro Mounds\, 18154 First Street\, Spiro\, Oklahoma\, 74959
CATEGORIES:Event
ATTACH;FMTTYPE=image/jpeg:https://heavener.news/wp-content/uploads/2025/04/spiro-mounds.jpg
END:VEVENT
BEGIN:VEVENT
DTSTART;TZID=America/Chicago:20250509T133000
DTEND;TZID=America/Chicago:20250509T160000
DTSTAMP:20260423T090517
CREATED:20250509T104549Z
LAST-MODIFIED:20250509T105023Z
UID:2114-1746797400-1746806400@heavener.news
SUMMARY:Wister vs. Amber-Pocasset
DESCRIPTION:Class A-1 baseball semifinal game
URL:https://heavener.news/event/wister-vs-amber-pocasset/
LOCATION:Oklahoma Christian University in Edmond\, 2501 E. Memorial Road\, Edmond\, Oklahoma\, 73013
CATEGORIES:Sports
ATTACH;FMTTYPE=image/jpeg:https://heavener.news/wp-content/uploads/2025/04/baseball-1091211_1280.jpg
END:VEVENT
BEGIN:VEVENT
DTSTART;TZID=America/Chicago:20250505T170000
DTEND;TZID=America/Chicago:20250505T190000
DTSTAMP:20260423T090517
CREATED:20250505T112056Z
LAST-MODIFIED:20250505T112056Z
UID:2048-1746464400-1746471600@heavener.news
SUMMARY:Verdigris at Heavener soccer
DESCRIPTION:Class 3A soccer playoff match featuring Verdigris at Heavener.
URL:https://heavener.news/event/verdigris-at-heavener-soccer/
LOCATION:Heavener High School\, East Avenue G and 5th Street\, Heavener\, OK\, 74937\, United States
CATEGORIES:Sports
ATTACH;FMTTYPE=image/jpeg:https://heavener.news/wp-content/uploads/2025/05/SO_2024-25_3ABrackets-1.jpg
END:VEVENT
BEGIN:VEVENT
DTSTART;TZID=America/Chicago:20250505T170000
DTEND;TZID=America/Chicago:20250505T180000
DTSTAMP:20260423T090517
CREATED:20250429T111548Z
LAST-MODIFIED:20250429T111608Z
UID:1929-1746464400-1746468000@heavener.news
SUMMARY:Heavener Lions Club meet
DESCRIPTION:
URL:https://heavener.news/event/heavener-lions-club-meet/
LOCATION:Simple Simon’s\, 107 East Avenue C\, Heavener\, Oklahoma\, 74937
ATTACH;FMTTYPE=image/jpeg:https://heavener.news/wp-content/uploads/2025/04/348s.jpg
END:VEVENT
BEGIN:VEVENT
DTSTART;TZID=America/Chicago:20250504T110000
DTEND;TZID=America/Chicago:20250504T140000
DTSTAMP:20260423T090517
CREATED:20250430T104952Z
LAST-MODIFIED:20250430T104954Z
UID:1954-1746356400-1746367200@heavener.news
SUMMARY:Linville fundraiser
DESCRIPTION:
URL:https://heavener.news/event/linville-fundraiser/
LOCATION:Heavener High School\, East Avenue G and 5th Street\, Heavener\, OK\, 74937\, United States
ATTACH;FMTTYPE=image/jpeg:https://heavener.news/wp-content/uploads/2025/04/494149016_10227725942590205_366468452361065158_n.jpg
END:VEVENT
END:VCALENDAR