BEGIN:VCALENDAR
VERSION:2.0
PRODID:-// - ECPv6.15.20//NONSGML v1.0//EN
CALSCALE:GREGORIAN
METHOD:PUBLISH
X-ORIGINAL-URL:https://heavener.news
X-WR-CALDESC:Events for 
REFRESH-INTERVAL;VALUE=DURATION:PT1H
X-Robots-Tag:noindex
X-PUBLISHED-TTL:PT1H
BEGIN:VTIMEZONE
TZID:America/Chicago
BEGIN:DAYLIGHT
TZOFFSETFROM:-0600
TZOFFSETTO:-0500
TZNAME:CDT
DTSTART:20240310T080000
END:DAYLIGHT
BEGIN:STANDARD
TZOFFSETFROM:-0500
TZOFFSETTO:-0600
TZNAME:CST
DTSTART:20241103T070000
END:STANDARD
BEGIN:DAYLIGHT
TZOFFSETFROM:-0600
TZOFFSETTO:-0500
TZNAME:CDT
DTSTART:20250309T080000
END:DAYLIGHT
BEGIN:STANDARD
TZOFFSETFROM:-0500
TZOFFSETTO:-0600
TZNAME:CST
DTSTART:20251102T070000
END:STANDARD
BEGIN:DAYLIGHT
TZOFFSETFROM:-0600
TZOFFSETTO:-0500
TZNAME:CDT
DTSTART:20260308T080000
END:DAYLIGHT
BEGIN:STANDARD
TZOFFSETFROM:-0500
TZOFFSETTO:-0600
TZNAME:CST
DTSTART:20261101T070000
END:STANDARD
END:VTIMEZONE
BEGIN:VEVENT
DTSTART;TZID=America/Chicago:20250805T180000
DTEND;TZID=America/Chicago:20250805T230000
DTSTAMP:20260421T173615
CREATED:20250725T093132Z
LAST-MODIFIED:20250725T093132Z
UID:3667-1754416800-1754434800@heavener.news
SUMMARY:Downtown Heavener street dance
DESCRIPTION:
URL:https://heavener.news/event/downtown-heavener-street-dance/
LOCATION:Downtown Heavener\, East First Street\, Heavener\, Oklahoma\, 74937
CATEGORIES:Event
ATTACH;FMTTYPE=image/jpeg:https://heavener.news/wp-content/uploads/2025/07/520485603_24769915365963139_4318345086085381141_n.jpg
END:VEVENT
BEGIN:VEVENT
DTSTART;TZID=America/Chicago:20250723T120000
DTEND;TZID=America/Chicago:20250723T130000
DTSTAMP:20260421T173615
CREATED:20250723T122605Z
LAST-MODIFIED:20250723T125312Z
UID:3601-1753272000-1753275600@heavener.news
SUMMARY:Poteau Rotary Club meets
DESCRIPTION:
URL:https://heavener.news/event/poteau-rotary-club-meets/
LOCATION:Eastern Oklahoma Medical Center\, 105 S. Wall Street\, Poteau\, Oklahoma\, 74953
CATEGORIES:Event
ATTACH;FMTTYPE=image/jpeg:https://heavener.news/wp-content/uploads/2025/07/rotary-international-6.jpg
END:VEVENT
BEGIN:VEVENT
DTSTART;TZID=America/Chicago:20250724T120000
DTEND;TZID=America/Chicago:20250724T130000
DTSTAMP:20260421T173615
CREATED:20250723T123248Z
LAST-MODIFIED:20250724T103827Z
UID:3610-1753358400-1753362000@heavener.news
SUMMARY:Poteau Kiwanis Club meets
DESCRIPTION:
URL:https://heavener.news/event/poteau-kiwanis-club-meets/
LOCATION:EOMC\, 105 Wall Street\, Poteau\, Oklahoma\, 74953
CATEGORIES:Event
ATTACH;FMTTYPE=image/jpeg:https://heavener.news/wp-content/uploads/2025/07/KI_seal_Color.jpg
END:VEVENT
BEGIN:VEVENT
DTSTART;TZID=America/Chicago:20250807T180000
DTEND;TZID=America/Chicago:20250807T200000
DTSTAMP:20260421T173615
CREATED:20250801T120721Z
LAST-MODIFIED:20250801T120724Z
UID:3792-1754589600-1754596800@heavener.news
SUMMARY:LCHS bingo night
DESCRIPTION:
URL:https://heavener.news/event/lchs-bingo-night/
LOCATION:Hotel Lowrey\, Broadway Street\, Poteau\, Oklahoma\, 74953
CATEGORIES:Event
ATTACH;FMTTYPE=image/png:https://heavener.news/wp-content/uploads/2025/08/LeFlore-County-Historical-Society-2.png
END:VEVENT
BEGIN:VEVENT
DTSTART;TZID=America/Chicago:20250807T180000
DTEND;TZID=America/Chicago:20250807T220000
DTSTAMP:20260421T173615
CREATED:20250723T125823Z
LAST-MODIFIED:20250723T125823Z
UID:3625-1754589600-1754604000@heavener.news
SUMMARY:Heavener City Council meets
DESCRIPTION:
URL:https://heavener.news/event/heavener-city-council-meets-3/
LOCATION:Heavener City Hall\, 103 East Avenue B\, Heavener\, Oklahoma\, 74937
CATEGORIES:Event
ATTACH;FMTTYPE=image/jpeg:https://heavener.news/wp-content/uploads/2025/05/Heavener-City-Hall-e1750338286717.jpg
END:VEVENT
BEGIN:VEVENT
DTSTART;TZID=America/Chicago:20250724T183000
DTEND;TZID=America/Chicago:20250724T203000
DTSTAMP:20260421T173615
CREATED:20250723T124309Z
LAST-MODIFIED:20250724T103859Z
UID:3614-1753381800-1753389000@heavener.news
SUMMARY:Heavener VFW bingo
DESCRIPTION:
URL:https://heavener.news/event/heavener-vfw-bingo/
LOCATION:Heavener VFW Hut\, Highway 59 North\, Heavener\, Oklahoma\, 74937
CATEGORIES:Event
ATTACH;FMTTYPE=image/png:https://heavener.news/wp-content/uploads/2025/07/VFW-Red-Logo-on-White_Open-Graph.png
END:VEVENT
BEGIN:VEVENT
DTSTART;TZID=America/Chicago:20250808T200000
DTEND;TZID=America/Chicago:20250808T230000
DTSTAMP:20260421T173615
CREATED:20250711T115154Z
LAST-MODIFIED:20250808T110340Z
UID:3282-1754683200-1754694000@heavener.news
SUMMARY:Heavener Rodeo
DESCRIPTION:/
URL:https://heavener.news/event/heavener-rodeo/
LOCATION:Cecil Leachman Rodeo Arena\, Highway 59 North\, Heavener\, Oklahoma\, 74937
ATTACH;FMTTYPE=image/jpeg:https://heavener.news/wp-content/uploads/2025/07/new.jpg
END:VEVENT
BEGIN:VEVENT
DTSTART;TZID=America/Chicago:20250809T200000
DTEND;TZID=America/Chicago:20250809T230000
DTSTAMP:20260421T173615
CREATED:20250711T115322Z
LAST-MODIFIED:20250808T110500Z
UID:3287-1754769600-1754780400@heavener.news
SUMMARY:Heavener Rodeo
DESCRIPTION:
URL:https://heavener.news/event/heavener-rodeo-2/
LOCATION:Cecil Leachman Rodeo Arena\, Highway 59 North\, Heavener\, Oklahoma\, 74937
ATTACH;FMTTYPE=image/jpeg:https://heavener.news/wp-content/uploads/2025/07/new.jpg
END:VEVENT
BEGIN:VEVENT
DTSTART;TZID=America/Chicago:20250728T090000
DTEND;TZID=America/Chicago:20250728T100000
DTSTAMP:20260421T173615
CREATED:20250723T095002Z
LAST-MODIFIED:20250929T184925Z
UID:3565-1753693200-1753696800@heavener.news
SUMMARY:LeFlore County commissioners meet
DESCRIPTION:
URL:https://heavener.news/event/leflore-county-commissioners-meet-9/
LOCATION:LeFlore County courthouse\, 100 South Broadway\, Poteau\, Oklahoma
CATEGORIES:Event
ATTACH;FMTTYPE=image/jpeg:https://heavener.news/wp-content/uploads/2025/03/courthouse.jpg
END:VEVENT
BEGIN:VEVENT
DTSTART;TZID=America/Chicago:20250811T110000
DTEND;TZID=America/Chicago:20250811T120000
DTSTAMP:20260421T173615
CREATED:20250809T120107Z
LAST-MODIFIED:20250809T120110Z
UID:3949-1754910000-1754913600@heavener.news
SUMMARY:Funeral service for Mary Odessa Lord Mathis
DESCRIPTION:
URL:https://heavener.news/event/funeral-service-for-mary-odessa-lord-mathis/
LOCATION:Mallory-Martin Funeral Home\, 112 North Main Street\, Spiro\, Oklahoma\, 74959
CATEGORIES:Obits
ATTACH;FMTTYPE=image/jpeg:https://heavener.news/wp-content/uploads/2025/08/Mathis-mary.jpg
END:VEVENT
BEGIN:VEVENT
DTSTART;TZID=America/Chicago:20250811T170000
DTEND;TZID=America/Chicago:20250811T190000
DTSTAMP:20260421T173615
CREATED:20250805T104921Z
LAST-MODIFIED:20250805T105017Z
UID:3866-1754931600-1754938800@heavener.news
SUMMARY:Heavener Public School open house
DESCRIPTION:Heavener Public School to hold open house Monday at all locations.
URL:https://heavener.news/event/heavener-public-school-open-house/
LOCATION:Heavener High School\, East Avenue G and 5th Street\, Heavener\, OK\, 74937\, United States
CATEGORIES:Event
ATTACH;FMTTYPE=image/jpeg:https://heavener.news/wp-content/uploads/2025/08/518411209_1191779992752522_1220894316270232866_n.jpg
END:VEVENT
BEGIN:VEVENT
DTSTART;TZID=America/Chicago:20250811T180000
DTEND;TZID=America/Chicago:20250811T200000
DTSTAMP:20260421T173615
CREATED:20250808T110853Z
LAST-MODIFIED:20250808T110856Z
UID:3930-1754935200-1754942400@heavener.news
SUMMARY:Heavener School Board meets
DESCRIPTION:
URL:https://heavener.news/event/heavener-school-board-meets-3/
LOCATION:Oklahom
ATTACH;FMTTYPE=image/jpeg:https://heavener.news/wp-content/uploads/2025/08/81963aa5-9947-4b29-aa8b-62ae5ec8335e.jpg
END:VEVENT
BEGIN:VEVENT
DTSTART;TZID=America/Chicago:20250729T180000
DTEND;TZID=America/Chicago:20250729T190000
DTSTAMP:20260421T173615
CREATED:20250723T125512Z
LAST-MODIFIED:20250723T125512Z
UID:3619-1753812000-1753815600@heavener.news
SUMMARY:Poteau Evening Lions Club meet
DESCRIPTION:
URL:https://heavener.news/event/poteau-evening-lions-club-meet/
LOCATION:Carl Albert State College\, 1507 South McKenna\, Poteau\, Oklahoma\, 74937
CATEGORIES:Event
ATTACH;FMTTYPE=image/png:https://heavener.news/wp-content/uploads/2025/07/lions-club-international-logo-png_seeklogo-179030.png
END:VEVENT
BEGIN:VEVENT
DTSTART;TZID=America/Chicago:20250723T120000
DTEND;TZID=America/Chicago:20250723T130000
DTSTAMP:20260421T173615
CREATED:20250723T122605Z
LAST-MODIFIED:20250723T125312Z
UID:3601-1753272000-1753275600@heavener.news
SUMMARY:Poteau Rotary Club meets
DESCRIPTION:
URL:https://heavener.news/event/poteau-rotary-club-meets/
LOCATION:Eastern Oklahoma Medical Center\, 105 S. Wall Street\, Poteau\, Oklahoma\, 74953
CATEGORIES:Event
ATTACH;FMTTYPE=image/jpeg:https://heavener.news/wp-content/uploads/2025/07/rotary-international-6.jpg
END:VEVENT
BEGIN:VEVENT
DTSTART;TZID=America/Chicago:20250813T170000
DTEND;TZID=America/Chicago:20250813T190000
DTSTAMP:20260421T173615
CREATED:20250729T122849Z
LAST-MODIFIED:20250729T122849Z
UID:3734-1755104400-1755111600@heavener.news
SUMMARY:Back to school bash at Heavener FBC
DESCRIPTION:Back to school bash with free food\, inflatables\, water slide\, games\, snow cones and more.
URL:https://heavener.news/event/back-to-school-bash-at-heavener-fbc/
LOCATION:Heavener First Baptist Church\, 200 West Avenue C\, Heavener\, Oklahoma\, 74937
CATEGORIES:Event
ATTACH;FMTTYPE=image/png:https://heavener.news/wp-content/uploads/2025/07/Back-to-School-Bash.png
END:VEVENT
BEGIN:VEVENT
DTSTART;TZID=America/Chicago:20250724T120000
DTEND;TZID=America/Chicago:20250724T130000
DTSTAMP:20260421T173615
CREATED:20250723T123248Z
LAST-MODIFIED:20250724T103827Z
UID:3610-1753358400-1753362000@heavener.news
SUMMARY:Poteau Kiwanis Club meets
DESCRIPTION:
URL:https://heavener.news/event/poteau-kiwanis-club-meets/
LOCATION:EOMC\, 105 Wall Street\, Poteau\, Oklahoma\, 74953
CATEGORIES:Event
ATTACH;FMTTYPE=image/jpeg:https://heavener.news/wp-content/uploads/2025/07/KI_seal_Color.jpg
END:VEVENT
BEGIN:VEVENT
DTSTART;TZID=America/Chicago:20250724T183000
DTEND;TZID=America/Chicago:20250724T203000
DTSTAMP:20260421T173615
CREATED:20250723T124309Z
LAST-MODIFIED:20250724T103859Z
UID:3614-1753381800-1753389000@heavener.news
SUMMARY:Heavener VFW bingo
DESCRIPTION:
URL:https://heavener.news/event/heavener-vfw-bingo/
LOCATION:Heavener VFW Hut\, Highway 59 North\, Heavener\, Oklahoma\, 74937
CATEGORIES:Event
ATTACH;FMTTYPE=image/png:https://heavener.news/wp-content/uploads/2025/07/VFW-Red-Logo-on-White_Open-Graph.png
END:VEVENT
BEGIN:VEVENT
DTSTART;TZID=America/Chicago:20250816T140000
DTEND;TZID=America/Chicago:20250816T150000
DTSTAMP:20260421T173615
CREATED:20250813T193542Z
LAST-MODIFIED:20250813T193542Z
UID:4047-1755352800-1755356400@heavener.news
SUMMARY:Memorial service for Sheila Garrett
DESCRIPTION:Obituary for Sheila Garrett: https://heavener.news/obituary-for-sheila-garrett/
URL:https://heavener.news/event/memorial-service-for-sheila-garrett/
LOCATION:Mallory-Martin Funeral Home\, 112 North Main Street\, Spiro\, Oklahoma\, 74959
CATEGORIES:Obits
ATTACH;FMTTYPE=image/jpeg:https://heavener.news/wp-content/uploads/2025/08/Garrett-Sheila.jpg
END:VEVENT
BEGIN:VEVENT
DTSTART;TZID=America/Chicago:20250816T190000
DTEND;TZID=America/Chicago:20250816T220000
DTSTAMP:20260421T173615
CREATED:20250718T110713Z
LAST-MODIFIED:20250718T110713Z
UID:3466-1755370800-1755381600@heavener.news
SUMMARY:Podunk Pandemonium
DESCRIPTION:
URL:https://heavener.news/event/podunk-pandemonium/
LOCATION:Hotel Lowrey\, Broadway Street\, Poteau\, Oklahoma\, 74953
CATEGORIES:Event
ATTACH;FMTTYPE=image/jpeg:https://heavener.news/wp-content/uploads/2025/07/IMG_4388.jpg
END:VEVENT
BEGIN:VEVENT
DTSTART;TZID=America/Chicago:20250728T090000
DTEND;TZID=America/Chicago:20250728T100000
DTSTAMP:20260421T173615
CREATED:20250723T095002Z
LAST-MODIFIED:20250929T184925Z
UID:3565-1753693200-1753696800@heavener.news
SUMMARY:LeFlore County commissioners meet
DESCRIPTION:
URL:https://heavener.news/event/leflore-county-commissioners-meet-9/
LOCATION:LeFlore County courthouse\, 100 South Broadway\, Poteau\, Oklahoma
CATEGORIES:Event
ATTACH;FMTTYPE=image/jpeg:https://heavener.news/wp-content/uploads/2025/03/courthouse.jpg
END:VEVENT
BEGIN:VEVENT
DTSTART;TZID=America/Chicago:20250818T163000
DTEND;TZID=America/Chicago:20250818T190000
DTSTAMP:20260421T173615
CREATED:20250818T112340Z
LAST-MODIFIED:20250818T113118Z
UID:4161-1755534600-1755543600@heavener.news
SUMMARY:High school softball: Heavener at Spiro
DESCRIPTION:
URL:https://heavener.news/event/high-school-softball-heavener-at-spiro/
LOCATION:Spiro High School\, 600 West Broadway Sreet\, Spiro\, OK\, 74959\, United States
CATEGORIES:Sports
ATTACH;FMTTYPE=image/jpeg:https://heavener.news/wp-content/uploads/2025/08/Heavener-at-Spiro.jpg
END:VEVENT
BEGIN:VEVENT
DTSTART;TZID=America/Chicago:20250819T100000
DTEND;TZID=America/Chicago:20250819T110000
DTSTAMP:20260421T173615
CREATED:20250818T100950Z
LAST-MODIFIED:20250818T100950Z
UID:4140-1755597600-1755601200@heavener.news
SUMMARY:Funeral service for Adam Wayne Sprabery
DESCRIPTION:Obituary for Adam Wayne Sprabery: https://heavener.news/adam-wayne-sprabery-obituary/
URL:https://heavener.news/event/funeral-service-for-adam-wayne-sprabery/
LOCATION:Dowden-Roberts Funeral Home\, 710 U.S. 270\, Heavener\, Ok\, 74937
CATEGORIES:Obits
ATTACH;FMTTYPE=image/jpeg:https://heavener.news/wp-content/uploads/2025/08/Adam-Sprabery.jpg
END:VEVENT
BEGIN:VEVENT
DTSTART;TZID=America/Chicago:20250819T110000
DTEND;TZID=America/Chicago:20250819T130000
DTSTAMP:20260421T173615
CREATED:20250801T121320Z
LAST-MODIFIED:20250801T121426Z
UID:3795-1755601200-1755608400@heavener.news
SUMMARY:Tuesday lunch at the museum
DESCRIPTION:
URL:https://heavener.news/event/tuesday-lunch-at-the-museum/
LOCATION:Hotel Lowrey\, Broadway Street\, Poteau\, Oklahoma\, 74953
CATEGORIES:Event
ATTACH;FMTTYPE=image/png:https://heavener.news/wp-content/uploads/2025/08/spaghetti.lunch_.png
END:VEVENT
BEGIN:VEVENT
DTSTART;TZID=America/Chicago:20250819T160000
DTEND;TZID=America/Chicago:20250819T170000
DTSTAMP:20260421T173615
CREATED:20250818T104136Z
LAST-MODIFIED:20250818T104136Z
UID:4150-1755619200-1755622800@heavener.news
SUMMARY:Funeral service for Yogi Taylor
DESCRIPTION:Hugh “Yogi” Taylor obituary: https://heavener.news/hugh-yogi-taylor-obituary/
URL:https://heavener.news/event/funeral-service-for-yogi-taylor/
LOCATION:Dowden-Roberts Funeral Home\, 710 U.S. 270\, Heavener\, Ok\, 74937
CATEGORIES:Obits
ATTACH;FMTTYPE=image/webp:https://heavener.news/wp-content/uploads/2025/08/funeral-flowers.webp
END:VEVENT
BEGIN:VEVENT
DTSTART;TZID=America/Chicago:20250729T180000
DTEND;TZID=America/Chicago:20250729T190000
DTSTAMP:20260421T173615
CREATED:20250723T125512Z
LAST-MODIFIED:20250723T125512Z
UID:3619-1753812000-1753815600@heavener.news
SUMMARY:Poteau Evening Lions Club meet
DESCRIPTION:
URL:https://heavener.news/event/poteau-evening-lions-club-meet/
LOCATION:Carl Albert State College\, 1507 South McKenna\, Poteau\, Oklahoma\, 74937
CATEGORIES:Event
ATTACH;FMTTYPE=image/png:https://heavener.news/wp-content/uploads/2025/07/lions-club-international-logo-png_seeklogo-179030.png
END:VEVENT
BEGIN:VEVENT
DTSTART;TZID=America/Chicago:20250819T183000
DTEND;TZID=America/Chicago:20250819T203000
DTSTAMP:20260421T173615
CREATED:20250805T093337Z
LAST-MODIFIED:20250805T093337Z
UID:3858-1755628200-1755635400@heavener.news
SUMMARY:Jazz at the Museum
DESCRIPTION:Jazz at the Museum for August.
URL:https://heavener.news/event/jazz-at-the-museum-2/
LOCATION:Hotel Lowrey\, Broadway Street\, Poteau\, Oklahoma\, 74953
CATEGORIES:Event
ATTACH;FMTTYPE=image/png:https://heavener.news/wp-content/uploads/2025/08/August-Jazz-wMark-Steele.png
END:VEVENT
BEGIN:VEVENT
DTSTART;TZID=America/Chicago:20250723T120000
DTEND;TZID=America/Chicago:20250723T130000
DTSTAMP:20260421T173615
CREATED:20250723T122605Z
LAST-MODIFIED:20250723T125312Z
UID:3601-1753272000-1753275600@heavener.news
SUMMARY:Poteau Rotary Club meets
DESCRIPTION:
URL:https://heavener.news/event/poteau-rotary-club-meets/
LOCATION:Eastern Oklahoma Medical Center\, 105 S. Wall Street\, Poteau\, Oklahoma\, 74953
CATEGORIES:Event
ATTACH;FMTTYPE=image/jpeg:https://heavener.news/wp-content/uploads/2025/07/rotary-international-6.jpg
END:VEVENT
BEGIN:VEVENT
DTSTART;TZID=America/Chicago:20250724T120000
DTEND;TZID=America/Chicago:20250724T130000
DTSTAMP:20260421T173615
CREATED:20250723T123248Z
LAST-MODIFIED:20250724T103827Z
UID:3610-1753358400-1753362000@heavener.news
SUMMARY:Poteau Kiwanis Club meets
DESCRIPTION:
URL:https://heavener.news/event/poteau-kiwanis-club-meets/
LOCATION:EOMC\, 105 Wall Street\, Poteau\, Oklahoma\, 74953
CATEGORIES:Event
ATTACH;FMTTYPE=image/jpeg:https://heavener.news/wp-content/uploads/2025/07/KI_seal_Color.jpg
END:VEVENT
BEGIN:VEVENT
DTSTART;TZID=America/Chicago:20250821T170000
DTEND;TZID=America/Chicago:20250821T180000
DTSTAMP:20260421T173615
CREATED:20250819T095514Z
LAST-MODIFIED:20250819T095514Z
UID:4170-1755795600-1755799200@heavener.news
SUMMARY:Celebration of life service for Rebecca "Sissy” Clouse
DESCRIPTION:Celebration of life service planned for Rebecca “Sissy” Clouse: https://heavener.news/celebration-of-life-planned-for-rebecca-sissy-clouse/
URL:https://heavener.news/event/celebration-of-life-service-for-rebecca-sissy-clouse/
LOCATION:Mallory-Martin Funeral Home\, 112 North Main Street\, Spiro\, Oklahoma\, 74959
CATEGORIES:Obits
ATTACH;FMTTYPE=image/jpeg:https://heavener.news/wp-content/uploads/2025/08/Clouse-rebecca.jpg
END:VEVENT
BEGIN:VEVENT
DTSTART;TZID=America/Chicago:20250821T180000
DTEND;TZID=America/Chicago:20250821T210000
DTSTAMP:20260421T173615
CREATED:20250814T192417Z
LAST-MODIFIED:20250814T192417Z
UID:4074-1755799200-1755810000@heavener.news
SUMMARY:Green Country Gobbler Banquet
DESCRIPTION:
URL:https://heavener.news/event/green-country-gobbler-banquet/
LOCATION:Reynolds Center\, 105 Reynolds Avenue\, Poteau\, Oklahoma\, 74953
CATEGORIES:Event
ATTACH;FMTTYPE=image/jpeg:https://heavener.news/wp-content/uploads/2025/08/IMG_5134.jpg
END:VEVENT
END:VCALENDAR