BEGIN:VCALENDAR
VERSION:2.0
PRODID:-// - ECPv6.15.20//NONSGML v1.0//EN
CALSCALE:GREGORIAN
METHOD:PUBLISH
X-ORIGINAL-URL:https://heavener.news
X-WR-CALDESC:Events for 
REFRESH-INTERVAL;VALUE=DURATION:PT1H
X-Robots-Tag:noindex
X-PUBLISHED-TTL:PT1H
BEGIN:VTIMEZONE
TZID:America/Chicago
BEGIN:DAYLIGHT
TZOFFSETFROM:-0600
TZOFFSETTO:-0500
TZNAME:CDT
DTSTART:20240310T080000
END:DAYLIGHT
BEGIN:STANDARD
TZOFFSETFROM:-0500
TZOFFSETTO:-0600
TZNAME:CST
DTSTART:20241103T070000
END:STANDARD
BEGIN:DAYLIGHT
TZOFFSETFROM:-0600
TZOFFSETTO:-0500
TZNAME:CDT
DTSTART:20250309T080000
END:DAYLIGHT
BEGIN:STANDARD
TZOFFSETFROM:-0500
TZOFFSETTO:-0600
TZNAME:CST
DTSTART:20251102T070000
END:STANDARD
BEGIN:DAYLIGHT
TZOFFSETFROM:-0600
TZOFFSETTO:-0500
TZNAME:CDT
DTSTART:20260308T080000
END:DAYLIGHT
BEGIN:STANDARD
TZOFFSETFROM:-0500
TZOFFSETTO:-0600
TZNAME:CST
DTSTART:20261101T070000
END:STANDARD
BEGIN:DAYLIGHT
TZOFFSETFROM:-0600
TZOFFSETTO:-0500
TZNAME:CDT
DTSTART:20270314T080000
END:DAYLIGHT
BEGIN:STANDARD
TZOFFSETFROM:-0500
TZOFFSETTO:-0600
TZNAME:CST
DTSTART:20271107T070000
END:STANDARD
END:VTIMEZONE
BEGIN:VEVENT
DTSTART;TZID=America/Chicago:20250724T120000
DTEND;TZID=America/Chicago:20250724T130000
DTSTAMP:20260420T211856
CREATED:20250723T123248Z
LAST-MODIFIED:20250724T103827Z
UID:3610-1753358400-1753362000@heavener.news
SUMMARY:Poteau Kiwanis Club meets
DESCRIPTION:
URL:https://heavener.news/event/poteau-kiwanis-club-meets/
LOCATION:EOMC\, 105 Wall Street\, Poteau\, Oklahoma\, 74953
CATEGORIES:Event
ATTACH;FMTTYPE=image/jpeg:https://heavener.news/wp-content/uploads/2025/07/KI_seal_Color.jpg
END:VEVENT
BEGIN:VEVENT
DTSTART;TZID=America/Chicago:20250807T180000
DTEND;TZID=America/Chicago:20250807T220000
DTSTAMP:20260420T211856
CREATED:20250723T125823Z
LAST-MODIFIED:20250723T125823Z
UID:3625-1754589600-1754604000@heavener.news
SUMMARY:Heavener City Council meets
DESCRIPTION:
URL:https://heavener.news/event/heavener-city-council-meets-3/
LOCATION:Heavener City Hall\, 103 East Avenue B\, Heavener\, Oklahoma\, 74937
CATEGORIES:Event
ATTACH;FMTTYPE=image/jpeg:https://heavener.news/wp-content/uploads/2025/05/Heavener-City-Hall-e1750338286717.jpg
END:VEVENT
BEGIN:VEVENT
DTSTART;TZID=America/Chicago:20250724T183000
DTEND;TZID=America/Chicago:20250724T203000
DTSTAMP:20260420T211856
CREATED:20250723T124309Z
LAST-MODIFIED:20250724T103859Z
UID:3614-1753381800-1753389000@heavener.news
SUMMARY:Heavener VFW bingo
DESCRIPTION:
URL:https://heavener.news/event/heavener-vfw-bingo/
LOCATION:Heavener VFW Hut\, Highway 59 North\, Heavener\, Oklahoma\, 74937
CATEGORIES:Event
ATTACH;FMTTYPE=image/png:https://heavener.news/wp-content/uploads/2025/07/VFW-Red-Logo-on-White_Open-Graph.png
END:VEVENT
BEGIN:VEVENT
DTSTART;TZID=America/Chicago:20260103T110000
DTEND;TZID=America/Chicago:20260103T120000
DTSTAMP:20260420T211856
CREATED:20260101T141236Z
LAST-MODIFIED:20260101T141241Z
UID:7730-1767438000-1767441600@heavener.news
SUMMARY:Graveside service for Clara Lou Owen
DESCRIPTION:
URL:https://heavener.news/event/graveside-service-for-clara-lou-owen/
LOCATION:Heavener Memorial Cemetery\, Highway 59 North\, Heavener\, Oklahoma\, 74937
CATEGORIES:Obits
ATTACH;FMTTYPE=image/jpeg:https://heavener.news/wp-content/uploads/2026/01/Owen-Clara.jpg
END:VEVENT
BEGIN:VEVENT
DTSTART;TZID=America/Chicago:20260103T140000
DTEND;TZID=America/Chicago:20260103T170000
DTSTAMP:20260420T211856
CREATED:20260103T130529Z
LAST-MODIFIED:20260103T130533Z
UID:7737-1767448800-1767459600@heavener.news
SUMMARY:Vian at Heavener basketball
DESCRIPTION:/
URL:https://heavener.news/event/vian-at-heavener-basketball/
LOCATION:Heavener High School\, East Avenue G and 5th Street\, Heavener\, OK\, 74937\, United States
ATTACH;FMTTYPE=image/jpeg:https://heavener.news/wp-content/uploads/2026/01/2-p.m.-Saturday.jpg
END:VEVENT
BEGIN:VEVENT
DTSTART;TZID=America/Chicago:20250728T090000
DTEND;TZID=America/Chicago:20250728T100000
DTSTAMP:20260420T211856
CREATED:20250723T095002Z
LAST-MODIFIED:20250929T184925Z
UID:3565-1753693200-1753696800@heavener.news
SUMMARY:LeFlore County commissioners meet
DESCRIPTION:
URL:https://heavener.news/event/leflore-county-commissioners-meet-9/
LOCATION:LeFlore County courthouse\, 100 South Broadway\, Poteau\, Oklahoma
CATEGORIES:Event
ATTACH;FMTTYPE=image/jpeg:https://heavener.news/wp-content/uploads/2025/03/courthouse.jpg
END:VEVENT
BEGIN:VEVENT
DTSTART;TZID=America/Chicago:20251222T090000
DTEND;TZID=America/Chicago:20251222T100000
DTSTAMP:20260420T211856
CREATED:20251221T135143Z
LAST-MODIFIED:20251221T135147Z
UID:7522-1766394000-1766397600@heavener.news
SUMMARY:LeFlore County commissioners meet
DESCRIPTION:/
URL:https://heavener.news/event/leflore-county-commissioners-meet-10/
LOCATION:LeFlore County courthouse\, 100 South Broadway\, Poteau\, Oklahoma
ATTACH;FMTTYPE=image/jpeg:https://heavener.news/wp-content/uploads/2025/04/courthouse.jpg
END:VEVENT
BEGIN:VEVENT
DTSTART;TZID=America/Chicago:20250804T170000
DTEND;TZID=America/Chicago:20250804T180000
DTSTAMP:20260420T211856
CREATED:20250723T122857Z
LAST-MODIFIED:20250723T122857Z
UID:3605-1754326800-1754330400@heavener.news
SUMMARY:Heavener Lions Club meets
DESCRIPTION:
URL:https://heavener.news/event/heavener-lions-club-meets/
LOCATION:Simple Simon’s\, 107 East Avenue C\, Heavener\, Oklahoma\, 74937
CATEGORIES:Event
ATTACH;FMTTYPE=image/png:https://heavener.news/wp-content/uploads/2025/07/lions-club-international-logo-png_seeklogo-179030.png
END:VEVENT
BEGIN:VEVENT
DTSTART;TZID=America/Chicago:20250804T173000
DTEND;TZID=America/Chicago:20250804T183000
DTSTAMP:20260420T211856
CREATED:20250723T125646Z
LAST-MODIFIED:20250723T125646Z
UID:3622-1754328600-1754332200@heavener.news
SUMMARY:City of Poteau meetings
DESCRIPTION:
URL:https://heavener.news/event/city-of-poteau-meetings-2/
LOCATION:Poteau City Hall\, 110 Peters Street\, Poteau\, Oklahoma\, 74953
CATEGORIES:Event
ATTACH;FMTTYPE=image/jpeg:https://heavener.news/wp-content/uploads/2025/06/poteau-city-hall.jpg
END:VEVENT
BEGIN:VEVENT
DTSTART;TZID=America/Chicago:20250729T180000
DTEND;TZID=America/Chicago:20250729T190000
DTSTAMP:20260420T211856
CREATED:20250723T125512Z
LAST-MODIFIED:20250723T125512Z
UID:3619-1753812000-1753815600@heavener.news
SUMMARY:Poteau Evening Lions Club meet
DESCRIPTION:
URL:https://heavener.news/event/poteau-evening-lions-club-meet/
LOCATION:Carl Albert State College\, 1507 South McKenna\, Poteau\, Oklahoma\, 74937
CATEGORIES:Event
ATTACH;FMTTYPE=image/png:https://heavener.news/wp-content/uploads/2025/07/lions-club-international-logo-png_seeklogo-179030.png
END:VEVENT
BEGIN:VEVENT
DTSTART;TZID=America/Chicago:20250723T120000
DTEND;TZID=America/Chicago:20250723T130000
DTSTAMP:20260420T211856
CREATED:20250723T122605Z
LAST-MODIFIED:20250723T125312Z
UID:3601-1753272000-1753275600@heavener.news
SUMMARY:Poteau Rotary Club meets
DESCRIPTION:
URL:https://heavener.news/event/poteau-rotary-club-meets/
LOCATION:Eastern Oklahoma Medical Center\, 105 S. Wall Street\, Poteau\, Oklahoma\, 74953
CATEGORIES:Event
ATTACH;FMTTYPE=image/jpeg:https://heavener.news/wp-content/uploads/2025/07/rotary-international-6.jpg
END:VEVENT
BEGIN:VEVENT
DTSTART;TZID=America/Chicago:20250724T120000
DTEND;TZID=America/Chicago:20250724T130000
DTSTAMP:20260420T211856
CREATED:20250723T123248Z
LAST-MODIFIED:20250724T103827Z
UID:3610-1753358400-1753362000@heavener.news
SUMMARY:Poteau Kiwanis Club meets
DESCRIPTION:
URL:https://heavener.news/event/poteau-kiwanis-club-meets/
LOCATION:EOMC\, 105 Wall Street\, Poteau\, Oklahoma\, 74953
CATEGORIES:Event
ATTACH;FMTTYPE=image/jpeg:https://heavener.news/wp-content/uploads/2025/07/KI_seal_Color.jpg
END:VEVENT
BEGIN:VEVENT
DTSTART;TZID=America/Chicago:20250724T183000
DTEND;TZID=America/Chicago:20250724T203000
DTSTAMP:20260420T211856
CREATED:20250723T124309Z
LAST-MODIFIED:20250724T103859Z
UID:3614-1753381800-1753389000@heavener.news
SUMMARY:Heavener VFW bingo
DESCRIPTION:
URL:https://heavener.news/event/heavener-vfw-bingo/
LOCATION:Heavener VFW Hut\, Highway 59 North\, Heavener\, Oklahoma\, 74937
CATEGORIES:Event
ATTACH;FMTTYPE=image/png:https://heavener.news/wp-content/uploads/2025/07/VFW-Red-Logo-on-White_Open-Graph.png
END:VEVENT
BEGIN:VEVENT
DTSTART;TZID=America/Chicago:20260109T100000
DTEND;TZID=America/Chicago:20260109T110000
DTSTAMP:20260420T211856
CREATED:20260108T090302Z
LAST-MODIFIED:20260108T090305Z
UID:7806-1767952800-1767956400@heavener.news
SUMMARY:Dawn Culberson funeral service
DESCRIPTION:
URL:https://heavener.news/event/dawn-culberson-funeral-service/
LOCATION:Dowden-Roberts Funeral Home\, 710 U.S. 270\, Heavener\, Ok\, 74937
ATTACH;FMTTYPE=image/jpeg:https://heavener.news/wp-content/uploads/2026/01/Culberson-Dawn-pic.jpg
END:VEVENT
BEGIN:VEVENT
DTSTART;TZID=America/Chicago:20250728T090000
DTEND;TZID=America/Chicago:20250728T100000
DTSTAMP:20260420T211856
CREATED:20250723T095002Z
LAST-MODIFIED:20250929T184925Z
UID:3565-1753693200-1753696800@heavener.news
SUMMARY:LeFlore County commissioners meet
DESCRIPTION:
URL:https://heavener.news/event/leflore-county-commissioners-meet-9/
LOCATION:LeFlore County courthouse\, 100 South Broadway\, Poteau\, Oklahoma
CATEGORIES:Event
ATTACH;FMTTYPE=image/jpeg:https://heavener.news/wp-content/uploads/2025/03/courthouse.jpg
END:VEVENT
BEGIN:VEVENT
DTSTART;TZID=America/Chicago:20251222T090000
DTEND;TZID=America/Chicago:20251222T100000
DTSTAMP:20260420T211856
CREATED:20251221T135143Z
LAST-MODIFIED:20251221T135147Z
UID:7522-1766394000-1766397600@heavener.news
SUMMARY:LeFlore County commissioners meet
DESCRIPTION:/
URL:https://heavener.news/event/leflore-county-commissioners-meet-10/
LOCATION:LeFlore County courthouse\, 100 South Broadway\, Poteau\, Oklahoma
ATTACH;FMTTYPE=image/jpeg:https://heavener.news/wp-content/uploads/2025/04/courthouse.jpg
END:VEVENT
BEGIN:VEVENT
DTSTART;TZID=America/Chicago:20250811T180000
DTEND;TZID=America/Chicago:20250811T200000
DTSTAMP:20260420T211856
CREATED:20250808T110853Z
LAST-MODIFIED:20250808T110856Z
UID:3930-1754935200-1754942400@heavener.news
SUMMARY:Heavener School Board meets
DESCRIPTION:
URL:https://heavener.news/event/heavener-school-board-meets-3/
LOCATION:Oklahoma
ATTACH;FMTTYPE=image/jpeg:https://heavener.news/wp-content/uploads/2025/08/81963aa5-9947-4b29-aa8b-62ae5ec8335e.jpg
END:VEVENT
BEGIN:VEVENT
DTSTART;TZID=America/Chicago:20250729T180000
DTEND;TZID=America/Chicago:20250729T190000
DTSTAMP:20260420T211856
CREATED:20250723T125512Z
LAST-MODIFIED:20250723T125512Z
UID:3619-1753812000-1753815600@heavener.news
SUMMARY:Poteau Evening Lions Club meet
DESCRIPTION:
URL:https://heavener.news/event/poteau-evening-lions-club-meet/
LOCATION:Carl Albert State College\, 1507 South McKenna\, Poteau\, Oklahoma\, 74937
CATEGORIES:Event
ATTACH;FMTTYPE=image/png:https://heavener.news/wp-content/uploads/2025/07/lions-club-international-logo-png_seeklogo-179030.png
END:VEVENT
BEGIN:VEVENT
DTSTART;TZID=America/Chicago:20250723T120000
DTEND;TZID=America/Chicago:20250723T130000
DTSTAMP:20260420T211856
CREATED:20250723T122605Z
LAST-MODIFIED:20250723T125312Z
UID:3601-1753272000-1753275600@heavener.news
SUMMARY:Poteau Rotary Club meets
DESCRIPTION:
URL:https://heavener.news/event/poteau-rotary-club-meets/
LOCATION:Eastern Oklahoma Medical Center\, 105 S. Wall Street\, Poteau\, Oklahoma\, 74953
CATEGORIES:Event
ATTACH;FMTTYPE=image/jpeg:https://heavener.news/wp-content/uploads/2025/07/rotary-international-6.jpg
END:VEVENT
BEGIN:VEVENT
DTSTART;TZID=America/Chicago:20260114T140000
DTEND;TZID=America/Chicago:20260114T150000
DTSTAMP:20260420T211856
CREATED:20260112T123059Z
LAST-MODIFIED:20260112T123102Z
UID:7909-1768399200-1768402800@heavener.news
SUMMARY:Shirley Duncan funeral service
DESCRIPTION:/
URL:https://heavener.news/event/shirley-duncan-funeral-service/
LOCATION:Dowden-Roberts Funeral Home\, 710 U.S. 270\, Heavener\, Ok\, 74937
CATEGORIES:Obits
ATTACH;FMTTYPE=image/jpeg:https://heavener.news/wp-content/uploads/2026/01/Shirley-Duncan-pic-small.jpg
END:VEVENT
BEGIN:VEVENT
DTSTART;TZID=America/Chicago:20250724T120000
DTEND;TZID=America/Chicago:20250724T130000
DTSTAMP:20260420T211856
CREATED:20250723T123248Z
LAST-MODIFIED:20250724T103827Z
UID:3610-1753358400-1753362000@heavener.news
SUMMARY:Poteau Kiwanis Club meets
DESCRIPTION:
URL:https://heavener.news/event/poteau-kiwanis-club-meets/
LOCATION:EOMC\, 105 Wall Street\, Poteau\, Oklahoma\, 74953
CATEGORIES:Event
ATTACH;FMTTYPE=image/jpeg:https://heavener.news/wp-content/uploads/2025/07/KI_seal_Color.jpg
END:VEVENT
BEGIN:VEVENT
DTSTART;TZID=America/Chicago:20260115T180000
DTEND;TZID=America/Chicago:20260115T200000
DTSTAMP:20260420T211856
CREATED:20260107T105353Z
LAST-MODIFIED:20260107T113053Z
UID:7790-1768500000-1768507200@heavener.news
SUMMARY:LeFlore County Republicans meet
DESCRIPTION:
URL:https://heavener.news/event/leflore-county-republicans-meet/
LOCATION:Patrick Lynch Library\, 206 South McKenna\, Poteau\, Oklahoma\, 74953
CATEGORIES:Event
END:VEVENT
BEGIN:VEVENT
DTSTART;TZID=America/Chicago:20250821T180000
DTEND;TZID=America/Chicago:20250821T220000
DTSTAMP:20260420T211856
CREATED:20250723T125957Z
LAST-MODIFIED:20250723T125957Z
UID:3628-1755799200-1755813600@heavener.news
SUMMARY:HUA and city council meet
DESCRIPTION:
URL:https://heavener.news/event/hua-and-city-council-meet-2/
LOCATION:Heavener City Hall\, 103 East Avenue B\, Heavener\, Oklahoma\, 74937
CATEGORIES:Event
ATTACH;FMTTYPE=image/jpeg:https://heavener.news/wp-content/uploads/2025/05/Heavener-City-Hall-e1750338286717.jpg
END:VEVENT
BEGIN:VEVENT
DTSTART;TZID=America/Chicago:20250724T183000
DTEND;TZID=America/Chicago:20250724T203000
DTSTAMP:20260420T211856
CREATED:20250723T124309Z
LAST-MODIFIED:20250724T103859Z
UID:3614-1753381800-1753389000@heavener.news
SUMMARY:Heavener VFW bingo
DESCRIPTION:
URL:https://heavener.news/event/heavener-vfw-bingo/
LOCATION:Heavener VFW Hut\, Highway 59 North\, Heavener\, Oklahoma\, 74937
CATEGORIES:Event
ATTACH;FMTTYPE=image/png:https://heavener.news/wp-content/uploads/2025/07/VFW-Red-Logo-on-White_Open-Graph.png
END:VEVENT
BEGIN:VEVENT
DTSTART;TZID=America/Chicago:20260117T140000
DTEND;TZID=America/Chicago:20260117T150000
DTSTAMP:20260420T211856
CREATED:20260113T114537Z
LAST-MODIFIED:20260113T114541Z
UID:7918-1768658400-1768662000@heavener.news
SUMMARY:Funeral services for Da’Keyshaun Jarron Steele
DESCRIPTION:/
URL:https://heavener.news/event/funeral-services-for-dakeyshaun-jarron-steele/
LOCATION:Victory Worship Center\, 23275 Highway 271\, Spiro\, Oklahoma\, 74959
CATEGORIES:Obits
ATTACH;FMTTYPE=image/jpeg:https://heavener.news/wp-content/uploads/2026/01/steele-small.jpg
END:VEVENT
BEGIN:VEVENT
DTSTART;TZID=America/Chicago:20250728T090000
DTEND;TZID=America/Chicago:20250728T100000
DTSTAMP:20260420T211856
CREATED:20250723T095002Z
LAST-MODIFIED:20250929T184925Z
UID:3565-1753693200-1753696800@heavener.news
SUMMARY:LeFlore County commissioners meet
DESCRIPTION:
URL:https://heavener.news/event/leflore-county-commissioners-meet-9/
LOCATION:LeFlore County courthouse\, 100 South Broadway\, Poteau\, Oklahoma
CATEGORIES:Event
ATTACH;FMTTYPE=image/jpeg:https://heavener.news/wp-content/uploads/2025/03/courthouse.jpg
END:VEVENT
BEGIN:VEVENT
DTSTART;TZID=America/Chicago:20251222T090000
DTEND;TZID=America/Chicago:20251222T100000
DTSTAMP:20260420T211856
CREATED:20251221T135143Z
LAST-MODIFIED:20251221T135147Z
UID:7522-1766394000-1766397600@heavener.news
SUMMARY:LeFlore County commissioners meet
DESCRIPTION:/
URL:https://heavener.news/event/leflore-county-commissioners-meet-10/
LOCATION:LeFlore County courthouse\, 100 South Broadway\, Poteau\, Oklahoma
ATTACH;FMTTYPE=image/jpeg:https://heavener.news/wp-content/uploads/2025/04/courthouse.jpg
END:VEVENT
BEGIN:VEVENT
DTSTART;TZID=America/Chicago:20260120T150000
DTEND;TZID=America/Chicago:20260124T220000
DTSTAMP:20260420T211856
CREATED:20260120T090747Z
LAST-MODIFIED:20260120T090749Z
UID:8058-1768921200-1769292000@heavener.news
SUMMARY:LeFlore County Tournament
DESCRIPTION:
URL:https://heavener.news/event/leflore-county-tournament/
LOCATION:Oklahoma
ATTACH;FMTTYPE=image/jpeg:https://heavener.news/wp-content/uploads/2026/01/2026-LCT.jpg
END:VEVENT
BEGIN:VEVENT
DTSTART;TZID=America/Chicago:20250729T180000
DTEND;TZID=America/Chicago:20250729T190000
DTSTAMP:20260420T211856
CREATED:20250723T125512Z
LAST-MODIFIED:20250723T125512Z
UID:3619-1753812000-1753815600@heavener.news
SUMMARY:Poteau Evening Lions Club meet
DESCRIPTION:
URL:https://heavener.news/event/poteau-evening-lions-club-meet/
LOCATION:Carl Albert State College\, 1507 South McKenna\, Poteau\, Oklahoma\, 74937
CATEGORIES:Event
ATTACH;FMTTYPE=image/png:https://heavener.news/wp-content/uploads/2025/07/lions-club-international-logo-png_seeklogo-179030.png
END:VEVENT
BEGIN:VEVENT
DTSTART;TZID=America/Chicago:20260121T100000
DTEND;TZID=America/Chicago:20260121T110000
DTSTAMP:20260420T211856
CREATED:20260119T175559Z
LAST-MODIFIED:20260119T175603Z
UID:8050-1768989600-1768993200@heavener.news
SUMMARY:Celebration of life for Colby Kanton Cornell
DESCRIPTION:
URL:https://heavener.news/event/celebration-of-life-for-colby-kanton-cornell/
LOCATION:Dowden-Roberts Funeral & Cremation Center Chapel\, 28918 205th Avenue\, Poteau\, Oklahoma\, 74953
CATEGORIES:Obits
ATTACH;FMTTYPE=image/jpeg:https://heavener.news/wp-content/uploads/2026/01/Cornell.jpg
END:VEVENT
END:VCALENDAR